{
 "currentVersion": 10.91,
 "serviceDescription": "KS/Andale_Photography_2021",
 "name": "KS/Andale_Photography_2021",
 "description": "",
 "extent": {
  "xmin": 1528806,
  "ymin": 1707671,
  "xmax": 1601450,
  "ymax": 1753862,
  "spatialReference": {
   "wkt": "PROJCS[\"NAD_1983_Kansas_South_ftUS\",GEOGCS[\"GCS_North_American_1983\",DATUM[\"D_North_American_1983\",SPHEROID[\"GRS_1980\",6378137.0,298.257222101]],PRIMEM[\"Greenwich\",0.0],UNIT[\"Degree\",0.0174532925199433]],PROJECTION[\"Lambert_Conformal_Conic\"],PARAMETER[\"false_easting\",1312333.3333],PARAMETER[\"false_northing\",1312333.3333],PARAMETER[\"central_meridian\",-98.5],PARAMETER[\"standard_parallel_1\",37.26666666666667],PARAMETER[\"standard_parallel_2\",38.56666666666667],PARAMETER[\"latitude_of_origin\",36.66666666666666],UNIT[\"Foot_US\",0.3048006096012192]]"
  }
 },
 "initialExtent": {
  "xmin": 1528806,
  "ymin": 1707671,
  "xmax": 1601450,
  "ymax": 1753862,
  "spatialReference": {
   "wkt": "PROJCS[\"NAD_1983_Kansas_South_ftUS\",GEOGCS[\"GCS_North_American_1983\",DATUM[\"D_North_American_1983\",SPHEROID[\"GRS_1980\",6378137.0,298.257222101]],PRIMEM[\"Greenwich\",0.0],UNIT[\"Degree\",0.0174532925199433]],PROJECTION[\"Lambert_Conformal_Conic\"],PARAMETER[\"false_easting\",1312333.3333],PARAMETER[\"false_northing\",1312333.3333],PARAMETER[\"central_meridian\",-98.5],PARAMETER[\"standard_parallel_1\",37.26666666666667],PARAMETER[\"standard_parallel_2\",38.56666666666667],PARAMETER[\"latitude_of_origin\",36.66666666666666],UNIT[\"Foot_US\",0.3048006096012192]]"
  }
 },
 "fullExtent": {
  "xmin": 1528806,
  "ymin": 1707671,
  "xmax": 1601450,
  "ymax": 1753862,
  "spatialReference": {
   "wkt": "PROJCS[\"NAD_1983_Kansas_South_ftUS\",GEOGCS[\"GCS_North_American_1983\",DATUM[\"D_North_American_1983\",SPHEROID[\"GRS_1980\",6378137.0,298.257222101]],PRIMEM[\"Greenwich\",0.0],UNIT[\"Degree\",0.0174532925199433]],PROJECTION[\"Lambert_Conformal_Conic\"],PARAMETER[\"false_easting\",1312333.3333],PARAMETER[\"false_northing\",1312333.3333],PARAMETER[\"central_meridian\",-98.5],PARAMETER[\"standard_parallel_1\",37.26666666666667],PARAMETER[\"standard_parallel_2\",38.56666666666667],PARAMETER[\"latitude_of_origin\",36.66666666666666],UNIT[\"Foot_US\",0.3048006096012192]]"
  }
 },
 "hasMultidimensions": false,
 "pixelSizeX": 1,
 "pixelSizeY": 1,
 "datasetFormat": "MrSID",
 "uncompressedSize": 16777495020,
 "blockWidth": 1024,
 "blockHeight": 128,
 "compressionType": "Wavelet (MG4)",
 "bandNames": [
  "Band_1",
  "Band_2",
  "Band_3",
  "Band_4",
  "Band_5"
 ],
 "allowCopy": true,
 "allowAnalysis": true,
 "bandCount": 5,
 "pixelType": "U8",
 "minPixelSize": 0,
 "maxPixelSize": 0,
 "copyrightText": "",
 "serviceDataType": "esriImageServiceDataTypeGeneric",
 "serviceSourceType": "esriImageServiceSourceTypeDataset",
 "minValues": [
  0,
  0,
  0,
  0,
  6
 ],
 "maxValues": [
  235,
  220,
  208,
  221,
  255
 ],
 "meanValues": [
  121.5771586038,
  119.4914268218,
  103.87599510104,
  135.15646050214,
  250.28077158604
 ],
 "stdvValues": [
  48.694239094723,
  37.31116677266,
  37.398823617404,
  35.093388873782,
  31.981650110672
 ],
 "objectIdField": "",
 "fields": [],
 "capabilities": "Image,Metadata,Mensuration",
 "defaultMosaicMethod": "Center",
 "allowedMosaicMethods": "",
 "sortField": "",
 "sortValue": null,
 "sortAscending": true,
 "mosaicOperator": "First",
 "defaultCompressionQuality": 75,
 "defaultResamplingMethod": "Bilinear",
 "maxImageHeight": 4100,
 "maxImageWidth": 15000,
 "allowRasterFunction": true,
 "rasterFunctionInfos": [
  {
   "name": "None",
   "description": "",
   "help": ""
  }
 ],
 "rasterTypeInfos": [
  {
   "name": "Raster Dataset",
   "description": "Supports all ArcGIS Raster Datasets",
   "help": ""
  }
 ],
 "mensurationCapabilities": "Basic",
 "hasHistograms": true,
 "hasColormap": false,
 "hasRasterAttributeTable": false,
 "minScale": 0,
 "maxScale": 0,
 "exportTilesAllowed": false,
 "supportsStatistics": false,
 "supportsAdvancedQueries": false,
 "editFieldsInfo": null,
 "ownershipBasedAccessControlForRasters": null,
 "allowComputeTiePoints": false,
 "useStandardizedQueries": true,
 "advancedQueryCapabilities": {
  "useStandardizedQueries": true,
  "supportsStatistics": false,
  "supportsOrderBy": false,
  "supportsDistinct": false,
  "supportsPagination": false
 },
 "spatialReference": {
  "wkt": "PROJCS[\"NAD_1983_Kansas_South_ftUS\",GEOGCS[\"GCS_North_American_1983\",DATUM[\"D_North_American_1983\",SPHEROID[\"GRS_1980\",6378137.0,298.257222101]],PRIMEM[\"Greenwich\",0.0],UNIT[\"Degree\",0.0174532925199433]],PROJECTION[\"Lambert_Conformal_Conic\"],PARAMETER[\"false_easting\",1312333.3333],PARAMETER[\"false_northing\",1312333.3333],PARAMETER[\"central_meridian\",-98.5],PARAMETER[\"standard_parallel_1\",37.26666666666667],PARAMETER[\"standard_parallel_2\",38.56666666666667],PARAMETER[\"latitude_of_origin\",36.66666666666666],UNIT[\"Foot_US\",0.3048006096012192]]"
 }
}
