{
 "currentVersion": 10.91,
 "serviceDescription": "KS/Colby_2021_Photography",
 "name": "KS/Colby_2021_Photography",
 "description": "",
 "extent": {
  "xmin": 427535,
  "ymin": 347931,
  "xmax": 465930,
  "ymax": 440131,
  "spatialReference": {
   "wkt": "PROJCS[\"NAD_1983_Kansas_North_ftUS\",GEOGCS[\"GCS_North_American_1983\",DATUM[\"D_North_American_1983\",SPHEROID[\"GRS_1980\",6378137.0,298.257222101]],PRIMEM[\"Greenwich\",0.0],UNIT[\"Degree\",0.0174532925199433]],PROJECTION[\"Lambert_Conformal_Conic\"],PARAMETER[\"false_easting\",1312333.3333],PARAMETER[\"false_northing\",0.0],PARAMETER[\"central_meridian\",-98.0],PARAMETER[\"standard_parallel_1\",38.71666666666667],PARAMETER[\"standard_parallel_2\",39.78333333333333],PARAMETER[\"latitude_of_origin\",38.33333333333334],UNIT[\"Foot_US\",0.3048006096012192]]"
  }
 },
 "initialExtent": {
  "xmin": 427535,
  "ymin": 347931,
  "xmax": 465930,
  "ymax": 440131,
  "spatialReference": {
   "wkt": "PROJCS[\"NAD_1983_Kansas_North_ftUS\",GEOGCS[\"GCS_North_American_1983\",DATUM[\"D_North_American_1983\",SPHEROID[\"GRS_1980\",6378137.0,298.257222101]],PRIMEM[\"Greenwich\",0.0],UNIT[\"Degree\",0.0174532925199433]],PROJECTION[\"Lambert_Conformal_Conic\"],PARAMETER[\"false_easting\",1312333.3333],PARAMETER[\"false_northing\",0.0],PARAMETER[\"central_meridian\",-98.0],PARAMETER[\"standard_parallel_1\",38.71666666666667],PARAMETER[\"standard_parallel_2\",39.78333333333333],PARAMETER[\"latitude_of_origin\",38.33333333333334],UNIT[\"Foot_US\",0.3048006096012192]]"
  }
 },
 "fullExtent": {
  "xmin": 427535,
  "ymin": 347931,
  "xmax": 465930,
  "ymax": 440131,
  "spatialReference": {
   "wkt": "PROJCS[\"NAD_1983_Kansas_North_ftUS\",GEOGCS[\"GCS_North_American_1983\",DATUM[\"D_North_American_1983\",SPHEROID[\"GRS_1980\",6378137.0,298.257222101]],PRIMEM[\"Greenwich\",0.0],UNIT[\"Degree\",0.0174532925199433]],PROJECTION[\"Lambert_Conformal_Conic\"],PARAMETER[\"false_easting\",1312333.3333],PARAMETER[\"false_northing\",0.0],PARAMETER[\"central_meridian\",-98.0],PARAMETER[\"standard_parallel_1\",38.71666666666667],PARAMETER[\"standard_parallel_2\",39.78333333333333],PARAMETER[\"latitude_of_origin\",38.33333333333334],UNIT[\"Foot_US\",0.3048006096012192]]"
  }
 },
 "hasMultidimensions": false,
 "pixelSizeX": 1,
 "pixelSizeY": 1,
 "datasetFormat": "MrSID",
 "uncompressedSize": 17700095000,
 "blockWidth": 1024,
 "blockHeight": 128,
 "compressionType": "Wavelet (MG4)",
 "bandNames": [
  "Band_1",
  "Band_2",
  "Band_3",
  "Band_4",
  "Band_5"
 ],
 "allowCopy": true,
 "allowAnalysis": true,
 "bandCount": 5,
 "pixelType": "U8",
 "minPixelSize": 0,
 "maxPixelSize": 0,
 "copyrightText": "",
 "serviceDataType": "esriImageServiceDataTypeGeneric",
 "serviceSourceType": "esriImageServiceSourceTypeDataset",
 "minValues": [
  0,
  0,
  0,
  0,
  0
 ],
 "maxValues": [
  221,
  203,
  173,
  201,
  255
 ],
 "meanValues": [
  143.45720069404,
  132.28224407172,
  113.497686524,
  143.77414690573,
  243.6003470214
 ],
 "stdvValues": [
  40.695508317916,
  36.432617353486,
  31.885515283172,
  34.618647077649,
  50.495433483195
 ],
 "objectIdField": "",
 "fields": [],
 "capabilities": "Image,Metadata,Mensuration",
 "defaultMosaicMethod": "Center",
 "allowedMosaicMethods": "",
 "sortField": "",
 "sortValue": null,
 "sortAscending": true,
 "mosaicOperator": "First",
 "defaultCompressionQuality": 75,
 "defaultResamplingMethod": "Bilinear",
 "maxImageHeight": 4100,
 "maxImageWidth": 15000,
 "allowRasterFunction": true,
 "rasterFunctionInfos": [
  {
   "name": "None",
   "description": "",
   "help": ""
  }
 ],
 "rasterTypeInfos": [
  {
   "name": "Raster Dataset",
   "description": "Supports all ArcGIS Raster Datasets",
   "help": ""
  }
 ],
 "mensurationCapabilities": "Basic",
 "hasHistograms": true,
 "hasColormap": false,
 "hasRasterAttributeTable": false,
 "minScale": 0,
 "maxScale": 0,
 "exportTilesAllowed": false,
 "supportsStatistics": false,
 "supportsAdvancedQueries": false,
 "editFieldsInfo": null,
 "ownershipBasedAccessControlForRasters": null,
 "allowComputeTiePoints": false,
 "useStandardizedQueries": true,
 "advancedQueryCapabilities": {
  "useStandardizedQueries": true,
  "supportsStatistics": false,
  "supportsOrderBy": false,
  "supportsDistinct": false,
  "supportsPagination": false
 },
 "spatialReference": {
  "wkt": "PROJCS[\"NAD_1983_Kansas_North_ftUS\",GEOGCS[\"GCS_North_American_1983\",DATUM[\"D_North_American_1983\",SPHEROID[\"GRS_1980\",6378137.0,298.257222101]],PRIMEM[\"Greenwich\",0.0],UNIT[\"Degree\",0.0174532925199433]],PROJECTION[\"Lambert_Conformal_Conic\"],PARAMETER[\"false_easting\",1312333.3333],PARAMETER[\"false_northing\",0.0],PARAMETER[\"central_meridian\",-98.0],PARAMETER[\"standard_parallel_1\",38.71666666666667],PARAMETER[\"standard_parallel_2\",39.78333333333333],PARAMETER[\"latitude_of_origin\",38.33333333333334],UNIT[\"Foot_US\",0.3048006096012192]]"
 }
}
