{
 "currentVersion": 10.91,
 "serviceDescription": "KS/El_Dorado_2021_Photography",
 "name": "KS/El_Dorado_2021_Photography",
 "description": "",
 "extent": {
  "xmin": 1745265,
  "ymin": 1710286,
  "xmax": 1818267,
  "ymax": 1757055,
  "spatialReference": {
   "wkid": 102678,
   "latestWkid": 3420
  }
 },
 "initialExtent": {
  "xmin": 1745265,
  "ymin": 1710286,
  "xmax": 1818267,
  "ymax": 1757055,
  "spatialReference": {
   "wkid": 102678,
   "latestWkid": 3420
  }
 },
 "fullExtent": {
  "xmin": 1745265,
  "ymin": 1710286,
  "xmax": 1818267,
  "ymax": 1757055,
  "spatialReference": {
   "wkid": 102678,
   "latestWkid": 3420
  }
 },
 "hasMultidimensions": false,
 "pixelSizeX": 1,
 "pixelSizeY": 1,
 "datasetFormat": "MrSID",
 "uncompressedSize": 17071152690,
 "blockWidth": 1024,
 "blockHeight": 128,
 "compressionType": "Wavelet (MG4)",
 "bandNames": [
  "Band_1",
  "Band_2",
  "Band_3",
  "Band_4",
  "Band_5"
 ],
 "allowCopy": true,
 "allowAnalysis": true,
 "bandCount": 5,
 "pixelType": "U8",
 "minPixelSize": 0,
 "maxPixelSize": 0,
 "copyrightText": "",
 "serviceDataType": "esriImageServiceDataTypeGeneric",
 "serviceSourceType": "esriImageServiceSourceTypeDataset",
 "minValues": [
  0,
  0,
  0,
  0,
  0
 ],
 "maxValues": [
  210,
  212,
  205,
  229,
  255
 ],
 "meanValues": [
  123.80132850242,
  117.81944444444,
  102.61141304348,
  119.28291062802,
  250.94957729469
 ],
 "stdvValues": [
  28.844375001889,
  25.043537137321,
  22.48099632644,
  35.970305758489,
  28.760529364708
 ],
 "objectIdField": "",
 "fields": [],
 "capabilities": "Image,Metadata,Mensuration",
 "defaultMosaicMethod": "Center",
 "allowedMosaicMethods": "",
 "sortField": "",
 "sortValue": null,
 "sortAscending": true,
 "mosaicOperator": "First",
 "defaultCompressionQuality": 75,
 "defaultResamplingMethod": "Bilinear",
 "maxImageHeight": 4100,
 "maxImageWidth": 15000,
 "allowRasterFunction": true,
 "rasterFunctionInfos": [
  {
   "name": "None",
   "description": "",
   "help": ""
  }
 ],
 "rasterTypeInfos": [
  {
   "name": "Raster Dataset",
   "description": "Supports all ArcGIS Raster Datasets",
   "help": ""
  }
 ],
 "mensurationCapabilities": "Basic",
 "hasHistograms": true,
 "hasColormap": false,
 "hasRasterAttributeTable": false,
 "minScale": 0,
 "maxScale": 0,
 "exportTilesAllowed": false,
 "supportsStatistics": false,
 "supportsAdvancedQueries": false,
 "editFieldsInfo": null,
 "ownershipBasedAccessControlForRasters": null,
 "allowComputeTiePoints": false,
 "useStandardizedQueries": true,
 "advancedQueryCapabilities": {
  "useStandardizedQueries": true,
  "supportsStatistics": false,
  "supportsOrderBy": false,
  "supportsDistinct": false,
  "supportsPagination": false
 },
 "spatialReference": {
  "wkid": 102678,
  "latestWkid": 3420
 }
}
