{
 "currentVersion": 10.91,
 "serviceDescription": "KS/Ft_Scott_2021_Photography",
 "name": "KS/Ft_Scott_2021_Photography",
 "description": "",
 "extent": {
  "xmin": 2358367,
  "ymin": 1727169,
  "xmax": 2432358,
  "ymax": 1775553,
  "spatialReference": {
   "wkid": 102678,
   "latestWkid": 3420
  }
 },
 "initialExtent": {
  "xmin": 2358367,
  "ymin": 1727169,
  "xmax": 2432358,
  "ymax": 1775553,
  "spatialReference": {
   "wkid": 102678,
   "latestWkid": 3420
  }
 },
 "fullExtent": {
  "xmin": 2358367,
  "ymin": 1727169,
  "xmax": 2432358,
  "ymax": 1775553,
  "spatialReference": {
   "wkid": 102678,
   "latestWkid": 3420
  }
 },
 "hasMultidimensions": false,
 "pixelSizeX": 1,
 "pixelSizeY": 1,
 "datasetFormat": "MrSID",
 "uncompressedSize": 17899902720,
 "blockWidth": 1024,
 "blockHeight": 128,
 "compressionType": "Wavelet (MG4)",
 "bandNames": [
  "Band_1",
  "Band_2",
  "Band_3",
  "Band_4",
  "Band_5"
 ],
 "allowCopy": true,
 "allowAnalysis": true,
 "bandCount": 5,
 "pixelType": "U8",
 "minPixelSize": 0,
 "maxPixelSize": 0,
 "copyrightText": "",
 "serviceDataType": "esriImageServiceDataTypeGeneric",
 "serviceSourceType": "esriImageServiceSourceTypeDataset",
 "minValues": [
  0,
  0,
  0,
  0,
  0
 ],
 "maxValues": [
  231,
  213,
  200,
  225,
  255
 ],
 "meanValues": [
  117.43007990868,
  112.41010273973,
  94.691210045662,
  130.80821917808,
  245.22888127854
 ],
 "stdvValues": [
  34.982835278874,
  31.910153559921,
  26.83016669928,
  39.777983757423,
  47.466914809035
 ],
 "objectIdField": "",
 "fields": [],
 "capabilities": "Image,Metadata,Mensuration",
 "defaultMosaicMethod": "Center",
 "allowedMosaicMethods": "",
 "sortField": "",
 "sortValue": null,
 "sortAscending": true,
 "mosaicOperator": "First",
 "defaultCompressionQuality": 75,
 "defaultResamplingMethod": "Bilinear",
 "maxImageHeight": 4100,
 "maxImageWidth": 15000,
 "allowRasterFunction": true,
 "rasterFunctionInfos": [
  {
   "name": "None",
   "description": "",
   "help": ""
  }
 ],
 "rasterTypeInfos": [
  {
   "name": "Raster Dataset",
   "description": "Supports all ArcGIS Raster Datasets",
   "help": ""
  }
 ],
 "mensurationCapabilities": "Basic",
 "hasHistograms": true,
 "hasColormap": false,
 "hasRasterAttributeTable": false,
 "minScale": 0,
 "maxScale": 0,
 "exportTilesAllowed": false,
 "supportsStatistics": false,
 "supportsAdvancedQueries": false,
 "editFieldsInfo": null,
 "ownershipBasedAccessControlForRasters": null,
 "allowComputeTiePoints": false,
 "useStandardizedQueries": true,
 "advancedQueryCapabilities": {
  "useStandardizedQueries": true,
  "supportsStatistics": false,
  "supportsOrderBy": false,
  "supportsDistinct": false,
  "supportsPagination": false
 },
 "spatialReference": {
  "wkid": 102678,
  "latestWkid": 3420
 }
}
