{
 "currentVersion": 10.91,
 "serviceDescription": "KS/Hamilton_Photography_2021",
 "name": "KS/Hamilton_Photography_2021",
 "description": "",
 "extent": {
  "xmin": 262761,
  "ymin": 1675260,
  "xmax": 452439,
  "ymax": 1954589,
  "spatialReference": {
   "wkid": 102678,
   "latestWkid": 3420
  }
 },
 "initialExtent": {
  "xmin": 262761,
  "ymin": 1675260,
  "xmax": 452439,
  "ymax": 1954589,
  "spatialReference": {
   "wkid": 102678,
   "latestWkid": 3420
  }
 },
 "fullExtent": {
  "xmin": 262761,
  "ymin": 1675260,
  "xmax": 452439,
  "ymax": 1954589,
  "spatialReference": {
   "wkid": 102678,
   "latestWkid": 3420
  }
 },
 "hasMultidimensions": false,
 "pixelSizeX": 1,
 "pixelSizeY": 1,
 "datasetFormat": "MrSID",
 "uncompressedSize": 158947698186,
 "blockWidth": 1024,
 "blockHeight": 128,
 "compressionType": "Wavelet (MG3)",
 "bandNames": [
  "Band_1",
  "Band_2",
  "Band_3"
 ],
 "allowCopy": true,
 "allowAnalysis": true,
 "bandCount": 3,
 "pixelType": "U8",
 "minPixelSize": 0,
 "maxPixelSize": 0,
 "copyrightText": "",
 "serviceDataType": "esriImageServiceDataTypeRGB",
 "serviceSourceType": "esriImageServiceSourceTypeDataset",
 "minValues": [
  0,
  0,
  0
 ],
 "maxValues": [
  199,
  187,
  162
 ],
 "meanValues": [
  117.09620721554,
  107.60592044403,
  91.5436324391
 ],
 "stdvValues": [
  49.221638052688,
  45.288761961602,
  38.560317836191
 ],
 "objectIdField": "",
 "fields": [],
 "capabilities": "Image,Metadata,Mensuration",
 "defaultMosaicMethod": "Center",
 "allowedMosaicMethods": "",
 "sortField": "",
 "sortValue": null,
 "sortAscending": true,
 "mosaicOperator": "First",
 "defaultCompressionQuality": 75,
 "defaultResamplingMethod": "Bilinear",
 "maxImageHeight": 4100,
 "maxImageWidth": 15000,
 "allowRasterFunction": true,
 "rasterFunctionInfos": [
  {
   "name": "None",
   "description": "",
   "help": ""
  }
 ],
 "rasterTypeInfos": [
  {
   "name": "Raster Dataset",
   "description": "Supports all ArcGIS Raster Datasets",
   "help": ""
  }
 ],
 "mensurationCapabilities": "Basic",
 "hasHistograms": true,
 "hasColormap": false,
 "hasRasterAttributeTable": false,
 "minScale": 0,
 "maxScale": 0,
 "exportTilesAllowed": false,
 "supportsStatistics": false,
 "supportsAdvancedQueries": false,
 "editFieldsInfo": null,
 "ownershipBasedAccessControlForRasters": null,
 "allowComputeTiePoints": false,
 "useStandardizedQueries": true,
 "advancedQueryCapabilities": {
  "useStandardizedQueries": true,
  "supportsStatistics": false,
  "supportsOrderBy": false,
  "supportsDistinct": false,
  "supportsPagination": false
 },
 "spatialReference": {
  "wkid": 102678,
  "latestWkid": 3420
 }
}
