{
 "currentVersion": 10.91,
 "serviceDescription": "KS/Harvey_County_2021",
 "name": "KS/Harvey_County_2021",
 "description": "",
 "extent": {
  "xmin": 1527708,
  "ymin": 1798699,
  "xmax": 1636489,
  "ymax": 1890816,
  "spatialReference": {
   "wkid": 102678,
   "latestWkid": 3420,
   "vcsWkid": 115700,
   "latestVcsWkid": 115700
  }
 },
 "initialExtent": {
  "xmin": 1527708,
  "ymin": 1798699,
  "xmax": 1636489,
  "ymax": 1890816,
  "spatialReference": {
   "wkid": 102678,
   "latestWkid": 3420,
   "vcsWkid": 115700,
   "latestVcsWkid": 115700
  }
 },
 "fullExtent": {
  "xmin": 1527708,
  "ymin": 1798699,
  "xmax": 1636489,
  "ymax": 1890816,
  "spatialReference": {
   "wkid": 102678,
   "latestWkid": 3420,
   "vcsWkid": 115700,
   "latestVcsWkid": 115700
  }
 },
 "heightModelInfo": {
  "heightModel": "ellipsoidal",
  "vertCRS": "WGS_1984",
  "heightUnit": "meter"
 },
 "hasMultidimensions": false,
 "pixelSizeX": 1,
 "pixelSizeY": 1,
 "datasetFormat": "MrSID",
 "uncompressedSize": 50102896885,
 "blockWidth": 1024,
 "blockHeight": 128,
 "compressionType": "Wavelet (MG4)",
 "bandNames": [
  "Band_1",
  "Band_2",
  "Band_3",
  "Band_4",
  "Band_5"
 ],
 "allowCopy": true,
 "allowAnalysis": true,
 "bandCount": 5,
 "pixelType": "U8",
 "minPixelSize": 0,
 "maxPixelSize": 0,
 "copyrightText": "",
 "serviceDataType": "esriImageServiceDataTypeGeneric",
 "serviceSourceType": "esriImageServiceSourceTypeDataset",
 "minValues": [
  0,
  0,
  0,
  0,
  0
 ],
 "maxValues": [
  209,
  199,
  191,
  231,
  255
 ],
 "meanValues": [
  109.43239875389,
  108.42056074766,
  90.922533748702,
  129.6246105919,
  250.57300103842
 ],
 "stdvValues": [
  36.955828776241,
  28.308075105815,
  28.270045149772,
  31.76863721041,
  31.617046186852
 ],
 "objectIdField": "",
 "fields": [],
 "capabilities": "Image,Metadata,Mensuration",
 "defaultMosaicMethod": "Center",
 "allowedMosaicMethods": "",
 "sortField": "",
 "sortValue": null,
 "sortAscending": true,
 "mosaicOperator": "First",
 "defaultCompressionQuality": 75,
 "defaultResamplingMethod": "Bilinear",
 "maxImageHeight": 4100,
 "maxImageWidth": 15000,
 "allowRasterFunction": true,
 "rasterFunctionInfos": [
  {
   "name": "None",
   "description": "",
   "help": ""
  }
 ],
 "rasterTypeInfos": [
  {
   "name": "Raster Dataset",
   "description": "Supports all ArcGIS Raster Datasets",
   "help": ""
  }
 ],
 "mensurationCapabilities": "Basic",
 "hasHistograms": true,
 "hasColormap": false,
 "hasRasterAttributeTable": false,
 "minScale": 0,
 "maxScale": 0,
 "exportTilesAllowed": false,
 "supportsStatistics": false,
 "supportsAdvancedQueries": false,
 "editFieldsInfo": null,
 "ownershipBasedAccessControlForRasters": null,
 "allowComputeTiePoints": false,
 "useStandardizedQueries": true,
 "advancedQueryCapabilities": {
  "useStandardizedQueries": true,
  "supportsStatistics": false,
  "supportsOrderBy": false,
  "supportsDistinct": false,
  "supportsPagination": false
 },
 "spatialReference": {
  "wkid": 102678,
  "latestWkid": 3420,
  "vcsWkid": 115700,
  "latestVcsWkid": 115700
 }
}
