{
 "currentVersion": 10.91,
 "serviceDescription": "Kansas City Photography 2022",
 "name": "KS/Kansas_City_Photography_2022",
 "description": "Kansas City Photography 2022",
 "extent": {
  "xmin": 2189151.0000333334,
  "ymin": 253886.4999999351,
  "xmax": 2280177.0000333334,
  "ymax": 332465.9999999351,
  "spatialReference": {
   "wkid": 102677,
   "latestWkid": 3419
  }
 },
 "initialExtent": {
  "xmin": 2189151.0000333334,
  "ymin": 253886.4999999351,
  "xmax": 2280177.0000333334,
  "ymax": 332465.9999999351,
  "spatialReference": {
   "wkid": 102677,
   "latestWkid": 3419
  }
 },
 "fullExtent": {
  "xmin": 2189151.0000333334,
  "ymin": 253886.4999999351,
  "xmax": 2280177.0000333334,
  "ymax": 332465.9999999351,
  "spatialReference": {
   "wkid": 102677,
   "latestWkid": 3419
  }
 },
 "pixelSizeX": 0.5,
 "pixelSizeY": 0.5,
 "bandCount": 5,
 "pixelType": "U8",
 "minPixelSize": 0,
 "maxPixelSize": 0,
 "copyrightText": "",
 "serviceDataType": "esriImageServiceDataTypeGeneric",
 "minValues": [
  0,
  0,
  0,
  0,
  0
 ],
 "maxValues": [
  231,
  235,
  235,
  217,
  255
 ],
 "meanValues": [
  72.59112797315,
  69.086385524588,
  61.560484459361,
  76.646286297972,
  160.91332263242
 ],
 "stdvValues": [
  58.878430154969,
  56.480954176633,
  50.894803968046,
  62.295610756358,
  121.782763028
 ],
 "objectIdField": "",
 "fields": [],
 "capabilities": "Image,Metadata,Mensuration",
 "defaultMosaicMethod": "Center",
 "allowedMosaicMethods": "",
 "sortField": "",
 "sortValue": null,
 "sortAscending": true,
 "mosaicOperator": "First",
 "defaultCompressionQuality": 75,
 "defaultResamplingMethod": "Bilinear",
 "maxImageHeight": 4100,
 "maxImageWidth": 15000,
 "allowRasterFunction": true,
 "rasterFunctionInfos": [
  {
   "name": "None",
   "description": "",
   "help": ""
  }
 ],
 "rasterTypeInfos": [
  {
   "name": "Raster Dataset",
   "description": "Supports all ArcGIS Raster Datasets",
   "help": ""
  }
 ],
 "mensurationCapabilities": "Basic",
 "hasHistograms": true,
 "hasColormap": false,
 "hasRasterAttributeTable": false,
 "minScale": 0,
 "maxScale": 0,
 "exportTilesAllowed": false,
 "hasMultidimensions": false,
 "supportsStatistics": false,
 "supportsAdvancedQueries": false,
 "editFieldsInfo": null,
 "ownershipBasedAccessControlForRasters": null,
 "allowComputeTiePoints": false,
 "useStandardizedQueries": true,
 "advancedQueryCapabilities": {
  "useStandardizedQueries": true,
  "supportsStatistics": false,
  "supportsOrderBy": false,
  "supportsDistinct": false,
  "supportsPagination": false
 },
 "spatialReference": {
  "wkid": 102677,
  "latestWkid": 3419
 }
}
