{
 "currentVersion": 10.91,
 "serviceDescription": "KS/Leavenworth_Photography_2021",
 "name": "KS/Leavenworth_Photography_2021",
 "description": "",
 "extent": {
  "xmin": 2088226,
  "ymin": 209166,
  "xmax": 2234143,
  "ymax": 440130,
  "spatialReference": {
   "wkid": 102677,
   "latestWkid": 3419
  }
 },
 "initialExtent": {
  "xmin": 2088226,
  "ymin": 209166,
  "xmax": 2234143,
  "ymax": 440130,
  "spatialReference": {
   "wkid": 102677,
   "latestWkid": 3419
  }
 },
 "fullExtent": {
  "xmin": 2088226,
  "ymin": 209166,
  "xmax": 2234143,
  "ymax": 440130,
  "spatialReference": {
   "wkid": 102677,
   "latestWkid": 3419
  }
 },
 "hasMultidimensions": false,
 "pixelSizeX": 1,
 "pixelSizeY": 1,
 "datasetFormat": "MrSID",
 "uncompressedSize": 101104721964,
 "blockWidth": 1024,
 "blockHeight": 128,
 "compressionType": "Wavelet (MG3)",
 "bandNames": [
  "Band_1",
  "Band_2",
  "Band_3"
 ],
 "allowCopy": true,
 "allowAnalysis": true,
 "bandCount": 3,
 "pixelType": "U8",
 "minPixelSize": 0,
 "maxPixelSize": 0,
 "copyrightText": "",
 "serviceDataType": "esriImageServiceDataTypeRGB",
 "serviceSourceType": "esriImageServiceSourceTypeDataset",
 "minValues": [
  0,
  0,
  0
 ],
 "maxValues": [
  225,
  213,
  193
 ],
 "meanValues": [
  93.1767453294,
  84.567109144543,
  72.147123893805
 ],
 "stdvValues": [
  49.707771690132,
  45.680231495255,
  39.289609485931
 ],
 "objectIdField": "",
 "fields": [],
 "capabilities": "Image,Metadata,Mensuration",
 "defaultMosaicMethod": "Center",
 "allowedMosaicMethods": "",
 "sortField": "",
 "sortValue": null,
 "sortAscending": true,
 "mosaicOperator": "First",
 "defaultCompressionQuality": 75,
 "defaultResamplingMethod": "Bilinear",
 "maxImageHeight": 4100,
 "maxImageWidth": 15000,
 "allowRasterFunction": true,
 "rasterFunctionInfos": [
  {
   "name": "None",
   "description": "",
   "help": ""
  }
 ],
 "rasterTypeInfos": [
  {
   "name": "Raster Dataset",
   "description": "Supports all ArcGIS Raster Datasets",
   "help": ""
  }
 ],
 "mensurationCapabilities": "Basic",
 "hasHistograms": true,
 "hasColormap": false,
 "hasRasterAttributeTable": false,
 "minScale": 0,
 "maxScale": 0,
 "exportTilesAllowed": false,
 "supportsStatistics": false,
 "supportsAdvancedQueries": false,
 "editFieldsInfo": null,
 "ownershipBasedAccessControlForRasters": null,
 "allowComputeTiePoints": false,
 "useStandardizedQueries": true,
 "advancedQueryCapabilities": {
  "useStandardizedQueries": true,
  "supportsStatistics": false,
  "supportsOrderBy": false,
  "supportsDistinct": false,
  "supportsPagination": false
 },
 "spatialReference": {
  "wkid": 102677,
  "latestWkid": 3419
 }
}
