{
 "currentVersion": 10.91,
 "serviceDescription": "Leavenworth Photography 2022",
 "name": "KS/Leavenworth_Photography_2022",
 "description": "Leavenworth Photography 2022",
 "extent": {
  "xmin": 2105000,
  "ymin": 235000,
  "xmax": 2230000,
  "ymax": 410000,
  "spatialReference": {
   "wkid": 102677,
   "latestWkid": 3419
  }
 },
 "initialExtent": {
  "xmin": 2105000,
  "ymin": 235000,
  "xmax": 2230000,
  "ymax": 410000,
  "spatialReference": {
   "wkid": 102677,
   "latestWkid": 3419
  }
 },
 "fullExtent": {
  "xmin": 2105000,
  "ymin": 235000,
  "xmax": 2230000,
  "ymax": 410000,
  "spatialReference": {
   "wkid": 102677,
   "latestWkid": 3419
  }
 },
 "hasMultidimensions": false,
 "pixelSizeX": 0.5,
 "pixelSizeY": 0.5,
 "datasetFormat": "MrSID",
 "uncompressedSize": 350000000000,
 "blockWidth": 1024,
 "blockHeight": 128,
 "compressionType": "Wavelet (MG4)",
 "bandNames": [
  "Band_1",
  "Band_2",
  "Band_3",
  "Band_4"
 ],
 "allowCopy": true,
 "allowAnalysis": true,
 "bandCount": 4,
 "pixelType": "U8",
 "minPixelSize": 0,
 "maxPixelSize": 0,
 "copyrightText": "",
 "serviceDataType": "esriImageServiceDataTypeGeneric",
 "serviceSourceType": "esriImageServiceSourceTypeDataset",
 "minValues": [
  35,
  36,
  30,
  0
 ],
 "maxValues": [
  255,
  255,
  255,
  255
 ],
 "meanValues": [
  164.29669917479,
  158.9703675919,
  149.88484621155,
  170.29107276819
 ],
 "stdvValues": [
  66.337729952201,
  69.629804678491,
  75.075769797737,
  118.88104389882
 ],
 "objectIdField": "",
 "fields": [],
 "capabilities": "Image,Metadata,Mensuration",
 "defaultMosaicMethod": "Center",
 "allowedMosaicMethods": "",
 "sortField": "",
 "sortValue": null,
 "sortAscending": true,
 "mosaicOperator": "First",
 "defaultCompressionQuality": 75,
 "defaultResamplingMethod": "Bilinear",
 "maxImageHeight": 4100,
 "maxImageWidth": 15000,
 "allowRasterFunction": true,
 "rasterFunctionInfos": [
  {
   "name": "None",
   "description": "",
   "help": ""
  }
 ],
 "rasterTypeInfos": [
  {
   "name": "Raster Dataset",
   "description": "Supports all ArcGIS Raster Datasets",
   "help": ""
  }
 ],
 "mensurationCapabilities": "Basic",
 "hasHistograms": true,
 "hasColormap": false,
 "hasRasterAttributeTable": false,
 "minScale": 0,
 "maxScale": 0,
 "exportTilesAllowed": false,
 "supportsStatistics": false,
 "supportsAdvancedQueries": false,
 "editFieldsInfo": null,
 "ownershipBasedAccessControlForRasters": null,
 "allowComputeTiePoints": false,
 "useStandardizedQueries": true,
 "advancedQueryCapabilities": {
  "useStandardizedQueries": true,
  "supportsStatistics": false,
  "supportsOrderBy": false,
  "supportsDistinct": false,
  "supportsPagination": false
 },
 "spatialReference": {
  "wkid": 102677,
  "latestWkid": 3419
 }
}
