{
 "currentVersion": 10.91,
 "serviceDescription": "KS/Lincoln_Center_Photography_2021",
 "name": "KS/Lincoln_Center_Photography_2021",
 "description": "",
 "extent": {
  "xmin": 1241284,
  "ymin": 242805,
  "xmax": 1312333,
  "ymax": 288428,
  "spatialReference": {
   "wkid": 102677,
   "latestWkid": 3419
  }
 },
 "initialExtent": {
  "xmin": 1241284,
  "ymin": 242805,
  "xmax": 1312333,
  "ymax": 288428,
  "spatialReference": {
   "wkid": 102677,
   "latestWkid": 3419
  }
 },
 "fullExtent": {
  "xmin": 1241284,
  "ymin": 242805,
  "xmax": 1312333,
  "ymax": 288428,
  "spatialReference": {
   "wkid": 102677,
   "latestWkid": 3419
  }
 },
 "hasMultidimensions": false,
 "pixelSizeX": 1,
 "pixelSizeY": 1,
 "datasetFormat": "MrSID",
 "uncompressedSize": 16207342635,
 "blockWidth": 1024,
 "blockHeight": 128,
 "compressionType": "Wavelet (MG4)",
 "bandNames": [
  "Band_1",
  "Band_2",
  "Band_3",
  "Band_4",
  "Band_5"
 ],
 "allowCopy": true,
 "allowAnalysis": true,
 "bandCount": 5,
 "pixelType": "U8",
 "minPixelSize": 0,
 "maxPixelSize": 0,
 "copyrightText": "",
 "serviceDataType": "esriImageServiceDataTypeGeneric",
 "serviceSourceType": "esriImageServiceSourceTypeDataset",
 "minValues": [
  27,
  50,
  36,
  23,
  165
 ],
 "maxValues": [
  211,
  204,
  174,
  199,
  255
 ],
 "meanValues": [
  127.78380952381,
  122.12888888889,
  104.30253968254,
  125.96571428571,
  253.99047619048
 ],
 "stdvValues": [
  23.471940521327,
  19.572864850296,
  18.469079090169,
  15.682973247654,
  9.4049246519975
 ],
 "objectIdField": "",
 "fields": [],
 "capabilities": "Image,Metadata,Mensuration",
 "defaultMosaicMethod": "Center",
 "allowedMosaicMethods": "",
 "sortField": "",
 "sortValue": null,
 "sortAscending": true,
 "mosaicOperator": "First",
 "defaultCompressionQuality": 75,
 "defaultResamplingMethod": "Bilinear",
 "maxImageHeight": 4100,
 "maxImageWidth": 15000,
 "allowRasterFunction": true,
 "rasterFunctionInfos": [
  {
   "name": "None",
   "description": "",
   "help": ""
  }
 ],
 "rasterTypeInfos": [
  {
   "name": "Raster Dataset",
   "description": "Supports all ArcGIS Raster Datasets",
   "help": ""
  }
 ],
 "mensurationCapabilities": "Basic",
 "hasHistograms": true,
 "hasColormap": false,
 "hasRasterAttributeTable": false,
 "minScale": 0,
 "maxScale": 0,
 "exportTilesAllowed": false,
 "supportsStatistics": false,
 "supportsAdvancedQueries": false,
 "editFieldsInfo": null,
 "ownershipBasedAccessControlForRasters": null,
 "allowComputeTiePoints": false,
 "useStandardizedQueries": true,
 "advancedQueryCapabilities": {
  "useStandardizedQueries": true,
  "supportsStatistics": false,
  "supportsOrderBy": false,
  "supportsDistinct": false,
  "supportsPagination": false
 },
 "spatialReference": {
  "wkid": 102677,
  "latestWkid": 3419
 }
}
