{
 "currentVersion": 10.91,
 "serviceDescription": "KS/Ottawa_KS_2023",
 "name": "KS/Ottawa_KS_2023",
 "description": "",
 "extent": {
  "xmin": 2226500,
  "ymin": 2007300,
  "xmax": 2256500,
  "ymax": 2052300,
  "spatialReference": {
   "wkt": "PROJCS[\"NAD_1983_Kansas_South_ft_US\",GEOGCS[\"GCS_North_American_1983\",DATUM[\"D_North_American_1983\",SPHEROID[\"GRS_1980\",6378137.0,298.257222101]],PRIMEM[\"Greenwich\",0.0],UNIT[\"Degree\",0.0174532925199433]],PROJECTION[\"Lambert_Conformal_Conic\"],PARAMETER[\"false_easting\",1312333.3333],PARAMETER[\"false_northing\",1312333.3333],PARAMETER[\"central_meridian\",-98.5],PARAMETER[\"standard_parallel_1\",37.26666666666667],PARAMETER[\"standard_parallel_2\",38.56666666666667],PARAMETER[\"latitude_of_origin\",36.66666666666666],UNIT[\"Foot_US\",0.3048006096012192]]"
  }
 },
 "initialExtent": {
  "xmin": 2226500,
  "ymin": 2007300,
  "xmax": 2256500,
  "ymax": 2052300,
  "spatialReference": {
   "wkt": "PROJCS[\"NAD_1983_Kansas_South_ft_US\",GEOGCS[\"GCS_North_American_1983\",DATUM[\"D_North_American_1983\",SPHEROID[\"GRS_1980\",6378137.0,298.257222101]],PRIMEM[\"Greenwich\",0.0],UNIT[\"Degree\",0.0174532925199433]],PROJECTION[\"Lambert_Conformal_Conic\"],PARAMETER[\"false_easting\",1312333.3333],PARAMETER[\"false_northing\",1312333.3333],PARAMETER[\"central_meridian\",-98.5],PARAMETER[\"standard_parallel_1\",37.26666666666667],PARAMETER[\"standard_parallel_2\",38.56666666666667],PARAMETER[\"latitude_of_origin\",36.66666666666666],UNIT[\"Foot_US\",0.3048006096012192]]"
  }
 },
 "fullExtent": {
  "xmin": 2226500,
  "ymin": 2007300,
  "xmax": 2256500,
  "ymax": 2052300,
  "spatialReference": {
   "wkt": "PROJCS[\"NAD_1983_Kansas_South_ft_US\",GEOGCS[\"GCS_North_American_1983\",DATUM[\"D_North_American_1983\",SPHEROID[\"GRS_1980\",6378137.0,298.257222101]],PRIMEM[\"Greenwich\",0.0],UNIT[\"Degree\",0.0174532925199433]],PROJECTION[\"Lambert_Conformal_Conic\"],PARAMETER[\"false_easting\",1312333.3333],PARAMETER[\"false_northing\",1312333.3333],PARAMETER[\"central_meridian\",-98.5],PARAMETER[\"standard_parallel_1\",37.26666666666667],PARAMETER[\"standard_parallel_2\",38.56666666666667],PARAMETER[\"latitude_of_origin\",36.66666666666666],UNIT[\"Foot_US\",0.3048006096012192]]"
  }
 },
 "pixelSizeX": 0.25,
 "pixelSizeY": 0.25,
 "bandCount": 4,
 "pixelType": "U8",
 "minPixelSize": 0,
 "maxPixelSize": 0,
 "copyrightText": "",
 "serviceDataType": "esriImageServiceDataTypeGeneric",
 "minValues": [
  0,
  0,
  0,
  255
 ],
 "maxValues": [
  218,
  222,
  217,
  255
 ],
 "meanValues": [
  96.193567026194,
  90.787557781202,
  81.401771956857,
  255
 ],
 "stdvValues": [
  64.429334543203,
  60.349024455589,
  53.964888116279,
  0
 ],
 "objectIdField": "",
 "fields": [],
 "capabilities": "Image,Metadata,Mensuration",
 "defaultMosaicMethod": "Center",
 "allowedMosaicMethods": "",
 "sortField": "",
 "sortValue": null,
 "sortAscending": true,
 "mosaicOperator": "First",
 "defaultCompressionQuality": 75,
 "defaultResamplingMethod": "Bilinear",
 "maxImageHeight": 4100,
 "maxImageWidth": 15000,
 "allowRasterFunction": true,
 "rasterFunctionInfos": [
  {
   "name": "None",
   "description": "",
   "help": ""
  }
 ],
 "rasterTypeInfos": [
  {
   "name": "Raster Dataset",
   "description": "Supports all ArcGIS Raster Datasets",
   "help": ""
  }
 ],
 "mensurationCapabilities": "Basic",
 "hasHistograms": true,
 "hasColormap": false,
 "hasRasterAttributeTable": false,
 "minScale": 0,
 "maxScale": 0,
 "exportTilesAllowed": false,
 "hasMultidimensions": false,
 "supportsStatistics": false,
 "supportsAdvancedQueries": false,
 "editFieldsInfo": null,
 "ownershipBasedAccessControlForRasters": null,
 "allowComputeTiePoints": false,
 "useStandardizedQueries": true,
 "advancedQueryCapabilities": {
  "useStandardizedQueries": true,
  "supportsStatistics": false,
  "supportsOrderBy": false,
  "supportsDistinct": false,
  "supportsPagination": false
 },
 "spatialReference": {
  "wkt": "PROJCS[\"NAD_1983_Kansas_South_ft_US\",GEOGCS[\"GCS_North_American_1983\",DATUM[\"D_North_American_1983\",SPHEROID[\"GRS_1980\",6378137.0,298.257222101]],PRIMEM[\"Greenwich\",0.0],UNIT[\"Degree\",0.0174532925199433]],PROJECTION[\"Lambert_Conformal_Conic\"],PARAMETER[\"false_easting\",1312333.3333],PARAMETER[\"false_northing\",1312333.3333],PARAMETER[\"central_meridian\",-98.5],PARAMETER[\"standard_parallel_1\",37.26666666666667],PARAMETER[\"standard_parallel_2\",38.56666666666667],PARAMETER[\"latitude_of_origin\",36.66666666666666],UNIT[\"Foot_US\",0.3048006096012192]]"
 }
}
