{
 "currentVersion": 10.91,
 "serviceDescription": "KS/Paola_2023_Photography",
 "name": "KS/Paola_2023_Photography",
 "description": "",
 "extent": {
  "xmin": 2290992,
  "ymin": 1955712,
  "xmax": 2362271.5,
  "ymax": 2087712,
  "spatialReference": {
   "wkid": 102678,
   "latestWkid": 3420
  }
 },
 "initialExtent": {
  "xmin": 2290992,
  "ymin": 1955712,
  "xmax": 2362271.5,
  "ymax": 2087712,
  "spatialReference": {
   "wkid": 102678,
   "latestWkid": 3420
  }
 },
 "fullExtent": {
  "xmin": 2290992,
  "ymin": 1955712,
  "xmax": 2362271.5,
  "ymax": 2087712,
  "spatialReference": {
   "wkid": 102678,
   "latestWkid": 3420
  }
 },
 "hasMultidimensions": false,
 "pixelSizeX": 0.5,
 "pixelSizeY": 0.5,
 "datasetFormat": "MrSID",
 "uncompressedSize": 112906728000,
 "blockWidth": 1024,
 "blockHeight": 128,
 "compressionType": "Wavelet (MG3)",
 "bandNames": [
  "Band_1",
  "Band_2",
  "Band_3"
 ],
 "allowCopy": true,
 "allowAnalysis": true,
 "bandCount": 3,
 "pixelType": "U8",
 "minPixelSize": 0,
 "maxPixelSize": 0,
 "copyrightText": "",
 "serviceDataType": "esriImageServiceDataTypeRGB",
 "serviceSourceType": "esriImageServiceSourceTypeDataset",
 "minValues": [
  0,
  18,
  0
 ],
 "maxValues": [
  255,
  255,
  255
 ],
 "meanValues": [
  146.78682170543,
  128.62558139535,
  113.26002214839
 ],
 "stdvValues": [
  33.729076007264,
  33.981799393201,
  34.770918507632
 ],
 "objectIdField": "",
 "fields": [],
 "capabilities": "Image,Metadata,Mensuration",
 "defaultMosaicMethod": "Center",
 "allowedMosaicMethods": "",
 "sortField": "",
 "sortValue": null,
 "sortAscending": true,
 "mosaicOperator": "First",
 "defaultCompressionQuality": 75,
 "defaultResamplingMethod": "Bilinear",
 "maxImageHeight": 4100,
 "maxImageWidth": 15000,
 "allowRasterFunction": true,
 "rasterFunctionInfos": [
  {
   "name": "None",
   "description": "",
   "help": ""
  }
 ],
 "rasterTypeInfos": [
  {
   "name": "Raster Dataset",
   "description": "Supports all ArcGIS Raster Datasets",
   "help": ""
  }
 ],
 "mensurationCapabilities": "Basic",
 "hasHistograms": true,
 "hasColormap": false,
 "hasRasterAttributeTable": false,
 "minScale": 0,
 "maxScale": 0,
 "exportTilesAllowed": false,
 "supportsStatistics": false,
 "supportsAdvancedQueries": false,
 "editFieldsInfo": null,
 "ownershipBasedAccessControlForRasters": null,
 "allowComputeTiePoints": false,
 "useStandardizedQueries": true,
 "advancedQueryCapabilities": {
  "useStandardizedQueries": true,
  "supportsStatistics": false,
  "supportsOrderBy": false,
  "supportsDistinct": false,
  "supportsPagination": false
 },
 "spatialReference": {
  "wkid": 102678,
  "latestWkid": 3420
 }
}
