{
 "currentVersion": 10.91,
 "serviceDescription": "MO/Barton_Photography_2022",
 "name": "MO/Barton_Photography_2022",
 "description": "",
 "extent": {
  "xmin": 355500,
  "ymin": 4133300.1,
  "xmax": 406500,
  "ymax": 4170800.1,
  "spatialReference": {
   "wkid": 102384,
   "latestWkid": 6344
  }
 },
 "initialExtent": {
  "xmin": 355500,
  "ymin": 4133300.1,
  "xmax": 406500,
  "ymax": 4170800.1,
  "spatialReference": {
   "wkid": 102384,
   "latestWkid": 6344
  }
 },
 "fullExtent": {
  "xmin": 355500,
  "ymin": 4133300.1,
  "xmax": 406500,
  "ymax": 4170800.1,
  "spatialReference": {
   "wkid": 102384,
   "latestWkid": 6344
  }
 },
 "pixelSizeX": 0.3,
 "pixelSizeY": 0.3,
 "bandCount": 5,
 "pixelType": "U8",
 "minPixelSize": 0,
 "maxPixelSize": 0,
 "copyrightText": "",
 "serviceDataType": "esriImageServiceDataTypeGeneric",
 "minValues": [
  29,
  48,
  36,
  28,
  0
 ],
 "maxValues": [
  255,
  255,
  255,
  255,
  255
 ],
 "meanValues": [
  133.55587557604,
  130.57949308756,
  103.37365591398,
  171.71716589862,
  238.16455453149
 ],
 "stdvValues": [
  43.375786557558,
  40.232487507594,
  43.303622241451,
  35.338994666538,
  62.767284044984
 ],
 "objectIdField": "",
 "fields": [],
 "capabilities": "Image,Metadata,Mensuration",
 "defaultMosaicMethod": "Center",
 "allowedMosaicMethods": "",
 "sortField": "",
 "sortValue": null,
 "sortAscending": true,
 "mosaicOperator": "First",
 "defaultCompressionQuality": 75,
 "defaultResamplingMethod": "Bilinear",
 "maxImageHeight": 4100,
 "maxImageWidth": 15000,
 "allowRasterFunction": true,
 "rasterFunctionInfos": [
  {
   "name": "None",
   "description": "",
   "help": ""
  }
 ],
 "rasterTypeInfos": [
  {
   "name": "Raster Dataset",
   "description": "Supports all ArcGIS Raster Datasets",
   "help": ""
  }
 ],
 "mensurationCapabilities": "Basic",
 "hasHistograms": true,
 "hasColormap": false,
 "hasRasterAttributeTable": false,
 "minScale": 0,
 "maxScale": 0,
 "exportTilesAllowed": false,
 "hasMultidimensions": false,
 "supportsStatistics": false,
 "supportsAdvancedQueries": false,
 "editFieldsInfo": null,
 "ownershipBasedAccessControlForRasters": null,
 "allowComputeTiePoints": false,
 "useStandardizedQueries": true,
 "advancedQueryCapabilities": {
  "useStandardizedQueries": true,
  "supportsStatistics": false,
  "supportsOrderBy": false,
  "supportsDistinct": false,
  "supportsPagination": false
 },
 "spatialReference": {
  "wkid": 102384,
  "latestWkid": 6344
 }
}
