{
 "currentVersion": 10.91,
 "serviceDescription": "MO/Benton_Photography_2023",
 "name": "MO/Benton_Photography_2023",
 "description": "",
 "extent": {
  "xmin": 1343496,
  "ymin": 812064,
  "xmax": 1480776,
  "ymax": 986304,
  "spatialReference": {
   "wkid": 102697,
   "latestWkid": 102697
  }
 },
 "initialExtent": {
  "xmin": 1343496,
  "ymin": 812064,
  "xmax": 1480776,
  "ymax": 986304,
  "spatialReference": {
   "wkid": 102697,
   "latestWkid": 102697
  }
 },
 "fullExtent": {
  "xmin": 1343496,
  "ymin": 812064,
  "xmax": 1480776,
  "ymax": 986304,
  "spatialReference": {
   "wkid": 102697,
   "latestWkid": 102697
  }
 },
 "hasMultidimensions": false,
 "pixelSizeX": 0.25,
 "pixelSizeY": 0.25,
 "datasetFormat": "MrSID",
 "uncompressedSize": 1530858700800,
 "blockWidth": 1024,
 "blockHeight": 128,
 "compressionType": "Wavelet (MG4)",
 "bandNames": [
  "Band_1",
  "Band_2",
  "Band_3",
  "Band_4"
 ],
 "allowCopy": true,
 "allowAnalysis": true,
 "bandCount": 4,
 "pixelType": "U8",
 "minPixelSize": 0,
 "maxPixelSize": 0,
 "copyrightText": "",
 "serviceDataType": "esriImageServiceDataTypeGeneric",
 "serviceSourceType": "esriImageServiceSourceTypeDataset",
 "minValues": [
  64,
  57,
  45,
  0
 ],
 "maxValues": [
  255,
  255,
  255,
  255
 ],
 "meanValues": [
  158.99675102599,
  139.05386456908,
  113.05164158687,
  238.36850205198
 ],
 "stdvValues": [
  33.761259808585,
  35.659446249432,
  39.957562141239,
  62.261700121318
 ],
 "objectIdField": "",
 "fields": [],
 "capabilities": "Mensuration,Image,Metadata",
 "defaultMosaicMethod": "Center",
 "allowedMosaicMethods": "",
 "sortField": "",
 "sortValue": null,
 "sortAscending": true,
 "mosaicOperator": "First",
 "defaultCompressionQuality": 75,
 "defaultResamplingMethod": "Bilinear",
 "maxImageHeight": 4100,
 "maxImageWidth": 15000,
 "allowRasterFunction": true,
 "rasterFunctionInfos": [
  {
   "name": "None",
   "description": "",
   "help": ""
  }
 ],
 "rasterTypeInfos": [
  {
   "name": "Raster Dataset",
   "description": "Supports all ArcGIS Raster Datasets",
   "help": ""
  }
 ],
 "mensurationCapabilities": "Basic",
 "hasHistograms": true,
 "hasColormap": false,
 "hasRasterAttributeTable": false,
 "minScale": 0,
 "maxScale": 0,
 "exportTilesAllowed": false,
 "supportsStatistics": false,
 "supportsAdvancedQueries": false,
 "editFieldsInfo": null,
 "ownershipBasedAccessControlForRasters": null,
 "allowComputeTiePoints": false,
 "useStandardizedQueries": true,
 "advancedQueryCapabilities": {
  "useStandardizedQueries": true,
  "supportsStatistics": false,
  "supportsOrderBy": false,
  "supportsDistinct": false,
  "supportsPagination": false
 },
 "spatialReference": {
  "wkid": 102697,
  "latestWkid": 102697
 }
}
