{
 "currentVersion": 10.91,
 "serviceDescription": "MO/Cooper_Photography_2020",
 "name": "MO/Cooper_Photography_2020",
 "description": "",
 "extent": {
  "xmin": 1469011.6431156425,
  "ymin": 1025224.2787360699,
  "xmax": 1653083.9183061023,
  "ymax": 1187481.7659196698,
  "spatialReference": {
   "wkid": 102697,
   "latestWkid": 102697
  }
 },
 "initialExtent": {
  "xmin": 1469011.6431156425,
  "ymin": 1025224.2787360699,
  "xmax": 1653083.9183061023,
  "ymax": 1187481.7659196698,
  "spatialReference": {
   "wkid": 102697,
   "latestWkid": 102697
  }
 },
 "fullExtent": {
  "xmin": 1469011.6431156425,
  "ymin": 1025224.2787360699,
  "xmax": 1653083.9183061023,
  "ymax": 1187481.7659196698,
  "spatialReference": {
   "wkid": 102697,
   "latestWkid": 102697
  }
 },
 "hasMultidimensions": false,
 "pixelSizeX": 0.26019857115256606,
 "pixelSizeY": 0.2601985711525661,
 "datasetFormat": "MrSID",
 "uncompressedSize": 1323440943390,
 "blockWidth": 1024,
 "blockHeight": 128,
 "compressionType": "Wavelet (MG3)",
 "bandNames": [
  "Band_1",
  "Band_2",
  "Band_3"
 ],
 "allowCopy": true,
 "allowAnalysis": true,
 "bandCount": 3,
 "pixelType": "U8",
 "minPixelSize": 0,
 "maxPixelSize": 0,
 "copyrightText": "",
 "serviceDataType": "esriImageServiceDataTypeRGB",
 "serviceSourceType": "esriImageServiceSourceTypeDataset",
 "minValues": [
  0,
  0,
  0
 ],
 "maxValues": [
  241,
  236,
  232
 ],
 "meanValues": [
  98.973279593969,
  97.527989252127,
  95.937751903269
 ],
 "stdvValues": [
  70.831426227988,
  69.396986303574,
  68.256047712582
 ],
 "objectIdField": "",
 "fields": [],
 "capabilities": "Image,Metadata,Mensuration",
 "defaultMosaicMethod": "Center",
 "allowedMosaicMethods": "",
 "sortField": "",
 "sortValue": null,
 "sortAscending": true,
 "mosaicOperator": "First",
 "defaultCompressionQuality": 75,
 "defaultResamplingMethod": "Bilinear",
 "maxImageHeight": 4100,
 "maxImageWidth": 15000,
 "allowRasterFunction": true,
 "rasterFunctionInfos": [
  {
   "name": "None",
   "description": "",
   "help": ""
  }
 ],
 "rasterTypeInfos": [
  {
   "name": "Raster Dataset",
   "description": "Supports all ArcGIS Raster Datasets",
   "help": ""
  }
 ],
 "mensurationCapabilities": "Basic",
 "hasHistograms": true,
 "hasColormap": false,
 "hasRasterAttributeTable": false,
 "minScale": 0,
 "maxScale": 0,
 "exportTilesAllowed": false,
 "supportsStatistics": false,
 "supportsAdvancedQueries": false,
 "editFieldsInfo": null,
 "ownershipBasedAccessControlForRasters": null,
 "allowComputeTiePoints": false,
 "useStandardizedQueries": true,
 "advancedQueryCapabilities": {
  "useStandardizedQueries": true,
  "supportsStatistics": false,
  "supportsOrderBy": false,
  "supportsDistinct": false,
  "supportsPagination": false
 },
 "spatialReference": {
  "wkid": 102697,
  "latestWkid": 102697
 }
}
