{
 "currentVersion": 10.91,
 "serviceDescription": "MO/Excelsior_Springs_2022",
 "name": "MO/Excelsior_Springs_2022",
 "description": "",
 "extent": {
  "xmin": 2840000,
  "ymin": 1130000,
  "xmax": 2885000,
  "ymax": 1180000,
  "spatialReference": {
   "wkt": "PROJCS[\"NAD_1983_Missouri_West\",GEOGCS[\"GCS_North_American_1983\",DATUM[\"D_North_American_1983\",SPHEROID[\"GRS_1980\",6378137.0,298.257222101]],PRIMEM[\"Greenwich\",0.0],UNIT[\"Degree\",0.0174532925199433]],PROJECTION[\"Transverse_Mercator\"],PARAMETER[\"false_easting\",2788708.333333333],PARAMETER[\"false_northing\",0.0],PARAMETER[\"central_meridian\",-94.5],PARAMETER[\"scale_factor\",0.999941177],PARAMETER[\"latitude_of_origin\",36.16666666666666],UNIT[\"Foot_US\",0.3048006096012192]]"
  }
 },
 "initialExtent": {
  "xmin": 2840000,
  "ymin": 1130000,
  "xmax": 2885000,
  "ymax": 1180000,
  "spatialReference": {
   "wkt": "PROJCS[\"NAD_1983_Missouri_West\",GEOGCS[\"GCS_North_American_1983\",DATUM[\"D_North_American_1983\",SPHEROID[\"GRS_1980\",6378137.0,298.257222101]],PRIMEM[\"Greenwich\",0.0],UNIT[\"Degree\",0.0174532925199433]],PROJECTION[\"Transverse_Mercator\"],PARAMETER[\"false_easting\",2788708.333333333],PARAMETER[\"false_northing\",0.0],PARAMETER[\"central_meridian\",-94.5],PARAMETER[\"scale_factor\",0.999941177],PARAMETER[\"latitude_of_origin\",36.16666666666666],UNIT[\"Foot_US\",0.3048006096012192]]"
  }
 },
 "fullExtent": {
  "xmin": 2840000,
  "ymin": 1130000,
  "xmax": 2885000,
  "ymax": 1180000,
  "spatialReference": {
   "wkt": "PROJCS[\"NAD_1983_Missouri_West\",GEOGCS[\"GCS_North_American_1983\",DATUM[\"D_North_American_1983\",SPHEROID[\"GRS_1980\",6378137.0,298.257222101]],PRIMEM[\"Greenwich\",0.0],UNIT[\"Degree\",0.0174532925199433]],PROJECTION[\"Transverse_Mercator\"],PARAMETER[\"false_easting\",2788708.333333333],PARAMETER[\"false_northing\",0.0],PARAMETER[\"central_meridian\",-94.5],PARAMETER[\"scale_factor\",0.999941177],PARAMETER[\"latitude_of_origin\",36.16666666666666],UNIT[\"Foot_US\",0.3048006096012192]]"
  }
 },
 "pixelSizeX": 0.5,
 "pixelSizeY": 0.5,
 "bandCount": 4,
 "pixelType": "U8",
 "minPixelSize": 0,
 "maxPixelSize": 0,
 "copyrightText": "",
 "serviceDataType": "esriImageServiceDataTypeGeneric",
 "minValues": [
  0,
  0,
  0,
  0
 ],
 "maxValues": [
  218,
  213,
  209,
  255
 ],
 "meanValues": [
  107.24211502783,
  100.19851576994,
  84.759972170686,
  221.83673469388
 ],
 "stdvValues": [
  48.623988540379,
  46.170160166706,
  38.897716746466,
  85.639085059886
 ],
 "objectIdField": "",
 "fields": [],
 "capabilities": "Image,Metadata,Mensuration",
 "defaultMosaicMethod": "Center",
 "allowedMosaicMethods": "",
 "sortField": "",
 "sortValue": null,
 "sortAscending": true,
 "mosaicOperator": "First",
 "defaultCompressionQuality": 75,
 "defaultResamplingMethod": "Bilinear",
 "maxImageHeight": 4100,
 "maxImageWidth": 15000,
 "allowRasterFunction": true,
 "rasterFunctionInfos": [
  {
   "name": "None",
   "description": "",
   "help": ""
  }
 ],
 "rasterTypeInfos": [
  {
   "name": "Raster Dataset",
   "description": "Supports all ArcGIS Raster Datasets",
   "help": ""
  }
 ],
 "mensurationCapabilities": "Basic",
 "hasHistograms": true,
 "hasColormap": false,
 "hasRasterAttributeTable": false,
 "minScale": 0,
 "maxScale": 0,
 "exportTilesAllowed": false,
 "hasMultidimensions": false,
 "supportsStatistics": false,
 "supportsAdvancedQueries": false,
 "editFieldsInfo": null,
 "ownershipBasedAccessControlForRasters": null,
 "allowComputeTiePoints": false,
 "useStandardizedQueries": true,
 "advancedQueryCapabilities": {
  "useStandardizedQueries": true,
  "supportsStatistics": false,
  "supportsOrderBy": false,
  "supportsDistinct": false,
  "supportsPagination": false
 },
 "spatialReference": {
  "wkt": "PROJCS[\"NAD_1983_Missouri_West\",GEOGCS[\"GCS_North_American_1983\",DATUM[\"D_North_American_1983\",SPHEROID[\"GRS_1980\",6378137.0,298.257222101]],PRIMEM[\"Greenwich\",0.0],UNIT[\"Degree\",0.0174532925199433]],PROJECTION[\"Transverse_Mercator\"],PARAMETER[\"false_easting\",2788708.333333333],PARAMETER[\"false_northing\",0.0],PARAMETER[\"central_meridian\",-94.5],PARAMETER[\"scale_factor\",0.999941177],PARAMETER[\"latitude_of_origin\",36.16666666666666],UNIT[\"Foot_US\",0.3048006096012192]]"
 }
}
