{
 "currentVersion": 10.91,
 "serviceDescription": "MO/Johnson_Photography_2022",
 "name": "MO/Johnson_Photography_2022",
 "description": "",
 "extent": {
  "xmin": 2889635.9999465616,
  "ymin": 863776.9994644127,
  "xmax": 3077564.999946562,
  "ymax": 1011614.999464413,
  "spatialReference": {
   "wkid": 102698,
   "latestWkid": 102698
  }
 },
 "initialExtent": {
  "xmin": 2889635.9999465616,
  "ymin": 863776.9994644127,
  "xmax": 3077564.999946562,
  "ymax": 1011614.999464413,
  "spatialReference": {
   "wkid": 102698,
   "latestWkid": 102698
  }
 },
 "fullExtent": {
  "xmin": 2889635.9999465616,
  "ymin": 863776.9994644127,
  "xmax": 3077564.999946562,
  "ymax": 1011614.999464413,
  "spatialReference": {
   "wkid": 102698,
   "latestWkid": 102698
  }
 },
 "pixelSizeX": 0.5000000000000012,
 "pixelSizeY": 0.5000000000000012,
 "bandCount": 5,
 "pixelType": "U8",
 "minPixelSize": 0,
 "maxPixelSize": 0,
 "copyrightText": "",
 "serviceDataType": "esriImageServiceDataTypeGeneric",
 "minValues": [
  0,
  0,
  0,
  0,
  0
 ],
 "maxValues": [
  213,
  215,
  211,
  216,
  255
 ],
 "meanValues": [
  103.46039309113,
  100.36837403216,
  81.111226920786,
  122.36018463371,
  231.82310899345
 ],
 "stdvValues": [
  36.536002267188,
  34.954966865288,
  28.640711208322,
  43.777653922201,
  71.244673012242
 ],
 "objectIdField": "",
 "fields": [],
 "capabilities": "Image,Metadata,Mensuration",
 "defaultMosaicMethod": "Center",
 "allowedMosaicMethods": "",
 "sortField": "",
 "sortValue": null,
 "sortAscending": true,
 "mosaicOperator": "First",
 "defaultCompressionQuality": 75,
 "defaultResamplingMethod": "Bilinear",
 "maxImageHeight": 4100,
 "maxImageWidth": 15000,
 "allowRasterFunction": true,
 "rasterFunctionInfos": [
  {
   "name": "None",
   "description": "",
   "help": ""
  }
 ],
 "rasterTypeInfos": [
  {
   "name": "Raster Dataset",
   "description": "Supports all ArcGIS Raster Datasets",
   "help": ""
  }
 ],
 "mensurationCapabilities": "Basic",
 "hasHistograms": true,
 "hasColormap": false,
 "hasRasterAttributeTable": false,
 "minScale": 0,
 "maxScale": 0,
 "exportTilesAllowed": false,
 "hasMultidimensions": false,
 "supportsStatistics": false,
 "supportsAdvancedQueries": false,
 "editFieldsInfo": null,
 "ownershipBasedAccessControlForRasters": null,
 "allowComputeTiePoints": false,
 "useStandardizedQueries": true,
 "advancedQueryCapabilities": {
  "useStandardizedQueries": true,
  "supportsStatistics": false,
  "supportsOrderBy": false,
  "supportsDistinct": false,
  "supportsPagination": false
 },
 "spatialReference": {
  "wkid": 102698,
  "latestWkid": 102698
 }
}
