{
 "currentVersion": 10.91,
 "serviceDescription": "MO/Lafayette_Photography_2023",
 "name": "MO/Lafayette_Photography_2023",
 "description": "",
 "extent": {
  "xmin": 2895816,
  "ymin": 996600,
  "xmax": 3083256,
  "ymax": 1141800,
  "spatialReference": {
   "wkid": 102698,
   "latestWkid": 102698
  }
 },
 "initialExtent": {
  "xmin": 2895816,
  "ymin": 996600,
  "xmax": 3083256,
  "ymax": 1141800,
  "spatialReference": {
   "wkid": 102698,
   "latestWkid": 102698
  }
 },
 "fullExtent": {
  "xmin": 2895816,
  "ymin": 996600,
  "xmax": 3083256,
  "ymax": 1141800,
  "spatialReference": {
   "wkid": 102698,
   "latestWkid": 102698
  }
 },
 "hasMultidimensions": false,
 "pixelSizeX": 0.25,
 "pixelSizeY": 0.25,
 "datasetFormat": "MrSID",
 "uncompressedSize": 1741842432000,
 "blockWidth": 1024,
 "blockHeight": 128,
 "compressionType": "Wavelet (MG4)",
 "bandNames": [
  "Band_1",
  "Band_2",
  "Band_3",
  "Band_4"
 ],
 "allowCopy": true,
 "allowAnalysis": true,
 "bandCount": 4,
 "pixelType": "U8",
 "minPixelSize": 0,
 "maxPixelSize": 0,
 "copyrightText": "",
 "serviceDataType": "esriImageServiceDataTypeGeneric",
 "serviceSourceType": "esriImageServiceSourceTypeDataset",
 "minValues": [
  62,
  45,
  20,
  0
 ],
 "maxValues": [
  255,
  255,
  255,
  255
 ],
 "meanValues": [
  175.97994488671,
  160.92483159829,
  150.55587875077,
  179.61879975505
 ],
 "stdvValues": [
  52.007033494338,
  61.156175363624,
  67.442920689811,
  115.00031604325
 ],
 "objectIdField": "",
 "fields": [],
 "capabilities": "Mensuration,Image,Metadata",
 "defaultMosaicMethod": "Center",
 "allowedMosaicMethods": "",
 "sortField": "",
 "sortValue": null,
 "sortAscending": true,
 "mosaicOperator": "First",
 "defaultCompressionQuality": 75,
 "defaultResamplingMethod": "Bilinear",
 "maxImageHeight": 4100,
 "maxImageWidth": 15000,
 "allowRasterFunction": true,
 "rasterFunctionInfos": [
  {
   "name": "None",
   "description": "",
   "help": ""
  }
 ],
 "rasterTypeInfos": [
  {
   "name": "Raster Dataset",
   "description": "Supports all ArcGIS Raster Datasets",
   "help": ""
  }
 ],
 "mensurationCapabilities": "Basic",
 "hasHistograms": true,
 "hasColormap": false,
 "hasRasterAttributeTable": false,
 "minScale": 0,
 "maxScale": 0,
 "exportTilesAllowed": false,
 "supportsStatistics": false,
 "supportsAdvancedQueries": false,
 "editFieldsInfo": null,
 "ownershipBasedAccessControlForRasters": null,
 "allowComputeTiePoints": false,
 "useStandardizedQueries": true,
 "advancedQueryCapabilities": {
  "useStandardizedQueries": true,
  "supportsStatistics": false,
  "supportsOrderBy": false,
  "supportsDistinct": false,
  "supportsPagination": false
 },
 "spatialReference": {
  "wkid": 102698,
  "latestWkid": 102698
 }
}
