{
 "currentVersion": 10.91,
 "serviceDescription": "MO/Marion_Photography_2022",
 "name": "MO/Marion_Photography_2022",
 "description": "",
 "extent": {
  "xmin": 439560,
  "ymin": 1392864.25,
  "xmax": 592680,
  "ymax": 1503744,
  "spatialReference": {
   "wkid": 102696,
   "latestWkid": 102696
  }
 },
 "initialExtent": {
  "xmin": 439560,
  "ymin": 1392864.25,
  "xmax": 592680,
  "ymax": 1503744,
  "spatialReference": {
   "wkid": 102696,
   "latestWkid": 102696
  }
 },
 "fullExtent": {
  "xmin": 439560,
  "ymin": 1392864.25,
  "xmax": 592680,
  "ymax": 1503744,
  "spatialReference": {
   "wkid": 102696,
   "latestWkid": 102696
  }
 },
 "hasMultidimensions": false,
 "pixelSizeX": 0.25,
 "pixelSizeY": 0.25,
 "datasetFormat": "MrSID",
 "uncompressedSize": 814939551360,
 "blockWidth": 1024,
 "blockHeight": 128,
 "compressionType": "Wavelet (MG3)",
 "bandNames": [
  "Band_1",
  "Band_2",
  "Band_3"
 ],
 "allowCopy": true,
 "allowAnalysis": true,
 "bandCount": 3,
 "pixelType": "U8",
 "minPixelSize": 0,
 "maxPixelSize": 0,
 "copyrightText": "",
 "serviceDataType": "esriImageServiceDataTypeRGB",
 "serviceSourceType": "esriImageServiceSourceTypeDataset",
 "minValues": [
  4,
  15,
  0
 ],
 "maxValues": [
  255,
  255,
  255
 ],
 "meanValues": [
  181.46496969697,
  157.5343030303,
  132.72024242424
 ],
 "stdvValues": [
  45.373430185707,
  55.962165565829,
  67.251407392744
 ],
 "objectIdField": "",
 "fields": [],
 "capabilities": "Image,Metadata,Mensuration",
 "defaultMosaicMethod": "Center",
 "allowedMosaicMethods": "",
 "sortField": "",
 "sortValue": null,
 "sortAscending": true,
 "mosaicOperator": "First",
 "defaultCompressionQuality": 75,
 "defaultResamplingMethod": "Bilinear",
 "maxImageHeight": 4100,
 "maxImageWidth": 15000,
 "allowRasterFunction": true,
 "rasterFunctionInfos": [
  {
   "name": "None",
   "description": "",
   "help": ""
  }
 ],
 "rasterTypeInfos": [
  {
   "name": "Raster Dataset",
   "description": "Supports all ArcGIS Raster Datasets",
   "help": ""
  }
 ],
 "mensurationCapabilities": "Basic",
 "hasHistograms": true,
 "hasColormap": false,
 "hasRasterAttributeTable": false,
 "minScale": 0,
 "maxScale": 0,
 "exportTilesAllowed": false,
 "supportsStatistics": false,
 "supportsAdvancedQueries": false,
 "editFieldsInfo": null,
 "ownershipBasedAccessControlForRasters": null,
 "allowComputeTiePoints": false,
 "useStandardizedQueries": true,
 "advancedQueryCapabilities": {
  "useStandardizedQueries": true,
  "supportsStatistics": false,
  "supportsOrderBy": false,
  "supportsDistinct": false,
  "supportsPagination": false
 },
 "spatialReference": {
  "wkid": 102696,
  "latestWkid": 102696
 }
}
