{
 "currentVersion": 10.91,
 "serviceDescription": "MO/Mississippi_Photography_2020_NAIP",
 "name": "MO/Mississippi_Photography_2020_NAIP",
 "description": "",
 "extent": {
  "xmin": 271165.2,
  "ymin": 4048322.4000000004,
  "xmax": 316820.4,
  "ymax": 4111540.2,
  "spatialReference": {
   "wkid": 26916,
   "latestWkid": 26916
  }
 },
 "initialExtent": {
  "xmin": 271165.2,
  "ymin": 4048322.4000000004,
  "xmax": 316820.4,
  "ymax": 4111540.2,
  "spatialReference": {
   "wkid": 26916,
   "latestWkid": 26916
  }
 },
 "fullExtent": {
  "xmin": 271165.2,
  "ymin": 4048322.4000000004,
  "xmax": 316820.4,
  "ymax": 4111540.2,
  "spatialReference": {
   "wkid": 26916,
   "latestWkid": 26916
  }
 },
 "hasMultidimensions": false,
 "pixelSizeX": 0.6000000000000002,
 "pixelSizeY": 0.5999999999999982,
 "datasetFormat": "MrSID",
 "uncompressedSize": 24051844188,
 "blockWidth": 1024,
 "blockHeight": 128,
 "compressionType": "Wavelet (MG3)",
 "bandNames": [
  "Band_1",
  "Band_2",
  "Band_3"
 ],
 "allowCopy": true,
 "allowAnalysis": true,
 "bandCount": 3,
 "pixelType": "U8",
 "minPixelSize": 0,
 "maxPixelSize": 0,
 "copyrightText": "",
 "serviceDataType": "esriImageServiceDataTypeRGB",
 "serviceSourceType": "esriImageServiceSourceTypeDataset",
 "minValues": [
  0,
  0,
  0
 ],
 "maxValues": [
  233,
  226,
  219
 ],
 "meanValues": [
  72.631585760518,
  79.6328802589,
  63.482718446602
 ],
 "stdvValues": [
  61.995224258153,
  64.317844286371,
  52.664980034743
 ],
 "objectIdField": "",
 "fields": [],
 "capabilities": "Image,Metadata,Mensuration",
 "defaultMosaicMethod": "Center",
 "allowedMosaicMethods": "",
 "sortField": "",
 "sortValue": null,
 "sortAscending": true,
 "mosaicOperator": "First",
 "defaultCompressionQuality": 75,
 "defaultResamplingMethod": "Bilinear",
 "maxImageHeight": 4100,
 "maxImageWidth": 15000,
 "allowRasterFunction": true,
 "rasterFunctionInfos": [
  {
   "name": "None",
   "description": "",
   "help": ""
  }
 ],
 "rasterTypeInfos": [
  {
   "name": "Raster Dataset",
   "description": "Supports all ArcGIS Raster Datasets",
   "help": ""
  }
 ],
 "mensurationCapabilities": "Basic",
 "hasHistograms": true,
 "hasColormap": false,
 "hasRasterAttributeTable": false,
 "minScale": 0,
 "maxScale": 0,
 "exportTilesAllowed": false,
 "supportsStatistics": false,
 "supportsAdvancedQueries": false,
 "editFieldsInfo": null,
 "ownershipBasedAccessControlForRasters": null,
 "allowComputeTiePoints": false,
 "useStandardizedQueries": true,
 "advancedQueryCapabilities": {
  "useStandardizedQueries": true,
  "supportsStatistics": false,
  "supportsOrderBy": false,
  "supportsDistinct": false,
  "supportsPagination": false
 },
 "spatialReference": {
  "wkid": 26916,
  "latestWkid": 26916
 }
}
