{
 "currentVersion": 10.91,
 "serviceDescription": "MO/Morgan_Aerial_Photography_2019",
 "name": "MO/Morgan_Aerial_Photography_2019",
 "description": "",
 "extent": {
  "xmin": 1474303.75,
  "ymin": 856616.5,
  "xmax": 1607345,
  "ymax": 1041773,
  "spatialReference": {
   "wkt": "PROJCS[\"NAD_1983_Missouri_Central\",GEOGCS[\"GCS_NAD83_1986\",DATUM[\"D_North_American_1983\",SPHEROID[\"GRS_1980\",6378137.0,298.257222101]],PRIMEM[\"Greenwich\",0.0],UNIT[\"Degree\",0.0174532925199433]],PROJECTION[\"Transverse_Mercator\"],PARAMETER[\"false_easting\",1640416.66666665],PARAMETER[\"false_northing\",0.0],PARAMETER[\"central_meridian\",-92.5],PARAMETER[\"scale_factor\",0.999933333],PARAMETER[\"latitude_of_origin\",35.833333333333],UNIT[\"US Survey Foot\",0.3048006096012192]]"
  }
 },
 "initialExtent": {
  "xmin": 1474303.75,
  "ymin": 856616.5,
  "xmax": 1607345,
  "ymax": 1041773,
  "spatialReference": {
   "wkt": "PROJCS[\"NAD_1983_Missouri_Central\",GEOGCS[\"GCS_NAD83_1986\",DATUM[\"D_North_American_1983\",SPHEROID[\"GRS_1980\",6378137.0,298.257222101]],PRIMEM[\"Greenwich\",0.0],UNIT[\"Degree\",0.0174532925199433]],PROJECTION[\"Transverse_Mercator\"],PARAMETER[\"false_easting\",1640416.66666665],PARAMETER[\"false_northing\",0.0],PARAMETER[\"central_meridian\",-92.5],PARAMETER[\"scale_factor\",0.999933333],PARAMETER[\"latitude_of_origin\",35.833333333333],UNIT[\"US Survey Foot\",0.3048006096012192]]"
  }
 },
 "fullExtent": {
  "xmin": 1474303.75,
  "ymin": 856616.5,
  "xmax": 1607345,
  "ymax": 1041773,
  "spatialReference": {
   "wkt": "PROJCS[\"NAD_1983_Missouri_Central\",GEOGCS[\"GCS_NAD83_1986\",DATUM[\"D_North_American_1983\",SPHEROID[\"GRS_1980\",6378137.0,298.257222101]],PRIMEM[\"Greenwich\",0.0],UNIT[\"Degree\",0.0174532925199433]],PROJECTION[\"Transverse_Mercator\"],PARAMETER[\"false_easting\",1640416.66666665],PARAMETER[\"false_northing\",0.0],PARAMETER[\"central_meridian\",-92.5],PARAMETER[\"scale_factor\",0.999933333],PARAMETER[\"latitude_of_origin\",35.833333333333],UNIT[\"US Survey Foot\",0.3048006096012192]]"
  }
 },
 "pixelSizeX": 0.25,
 "pixelSizeY": 0.25,
 "bandCount": 4,
 "pixelType": "U8",
 "minPixelSize": 0,
 "maxPixelSize": 0,
 "copyrightText": "",
 "serviceDataType": "esriImageServiceDataTypeGeneric",
 "minValues": [
  67,
  83,
  35,
  0
 ],
 "maxValues": [
  255,
  255,
  255,
  255
 ],
 "meanValues": [
  175.60067624683,
  163.2157227388,
  134.58005071851,
  192.49974640744
 ],
 "stdvValues": [
  46.957538772344,
  52.978122309238,
  68.533986664619,
  107.98213492203
 ],
 "objectIdField": "",
 "fields": [],
 "capabilities": "Image,Metadata,Mensuration",
 "defaultMosaicMethod": "Center",
 "allowedMosaicMethods": "",
 "sortField": "",
 "sortValue": null,
 "sortAscending": true,
 "mosaicOperator": "First",
 "defaultCompressionQuality": 75,
 "defaultResamplingMethod": "Bilinear",
 "maxImageHeight": 4100,
 "maxImageWidth": 15000,
 "allowRasterFunction": true,
 "rasterFunctionInfos": [
  {
   "name": "None",
   "description": "",
   "help": ""
  }
 ],
 "rasterTypeInfos": [
  {
   "name": "Raster Dataset",
   "description": "Supports all ArcGIS Raster Datasets",
   "help": ""
  }
 ],
 "mensurationCapabilities": "Basic",
 "hasHistograms": true,
 "hasColormap": false,
 "hasRasterAttributeTable": false,
 "minScale": 0,
 "maxScale": 0,
 "exportTilesAllowed": false,
 "hasMultidimensions": false,
 "supportsStatistics": false,
 "supportsAdvancedQueries": false,
 "editFieldsInfo": null,
 "ownershipBasedAccessControlForRasters": null,
 "allowComputeTiePoints": false,
 "useStandardizedQueries": true,
 "advancedQueryCapabilities": {
  "useStandardizedQueries": true,
  "supportsStatistics": false,
  "supportsOrderBy": false,
  "supportsDistinct": false,
  "supportsPagination": false
 },
 "spatialReference": {
  "wkt": "PROJCS[\"NAD_1983_Missouri_Central\",GEOGCS[\"GCS_NAD83_1986\",DATUM[\"D_North_American_1983\",SPHEROID[\"GRS_1980\",6378137.0,298.257222101]],PRIMEM[\"Greenwich\",0.0],UNIT[\"Degree\",0.0174532925199433]],PROJECTION[\"Transverse_Mercator\"],PARAMETER[\"false_easting\",1640416.66666665],PARAMETER[\"false_northing\",0.0],PARAMETER[\"central_meridian\",-92.5],PARAMETER[\"scale_factor\",0.999933333],PARAMETER[\"latitude_of_origin\",35.833333333333],UNIT[\"US Survey Foot\",0.3048006096012192]]"
 }
}
