{
 "currentVersion": 10.91,
 "serviceDescription": "MO/Morgan_Aerial_Photography_2022",
 "name": "MO/Morgan_Aerial_Photography_2022",
 "description": "",
 "extent": {
  "xmin": 1473648,
  "ymin": 856680.25,
  "xmax": 1605648,
  "ymax": 1044120,
  "spatialReference": {
   "wkt": "PROJCS[\"NAD_1983_Missouri_Central\",GEOGCS[\"GCS_North_American_1983\",DATUM[\"D_North_American_1983\",SPHEROID[\"GRS_1980\",6378137.0,298.257222101]],PRIMEM[\"Greenwich\",0.0],UNIT[\"Degree\",0.0174532925199433]],PROJECTION[\"Transverse_Mercator\"],PARAMETER[\"false_easting\",1640416.666666667],PARAMETER[\"false_northing\",0.0],PARAMETER[\"central_meridian\",-92.5],PARAMETER[\"scale_factor\",0.999933333],PARAMETER[\"latitude_of_origin\",35.83333333333334],UNIT[\"Foot_US\",0.3048006096012192]]"
  }
 },
 "initialExtent": {
  "xmin": 1473648,
  "ymin": 856680.25,
  "xmax": 1605648,
  "ymax": 1044120,
  "spatialReference": {
   "wkt": "PROJCS[\"NAD_1983_Missouri_Central\",GEOGCS[\"GCS_North_American_1983\",DATUM[\"D_North_American_1983\",SPHEROID[\"GRS_1980\",6378137.0,298.257222101]],PRIMEM[\"Greenwich\",0.0],UNIT[\"Degree\",0.0174532925199433]],PROJECTION[\"Transverse_Mercator\"],PARAMETER[\"false_easting\",1640416.666666667],PARAMETER[\"false_northing\",0.0],PARAMETER[\"central_meridian\",-92.5],PARAMETER[\"scale_factor\",0.999933333],PARAMETER[\"latitude_of_origin\",35.83333333333334],UNIT[\"Foot_US\",0.3048006096012192]]"
  }
 },
 "fullExtent": {
  "xmin": 1473648,
  "ymin": 856680.25,
  "xmax": 1605648,
  "ymax": 1044120,
  "spatialReference": {
   "wkt": "PROJCS[\"NAD_1983_Missouri_Central\",GEOGCS[\"GCS_North_American_1983\",DATUM[\"D_North_American_1983\",SPHEROID[\"GRS_1980\",6378137.0,298.257222101]],PRIMEM[\"Greenwich\",0.0],UNIT[\"Degree\",0.0174532925199433]],PROJECTION[\"Transverse_Mercator\"],PARAMETER[\"false_easting\",1640416.666666667],PARAMETER[\"false_northing\",0.0],PARAMETER[\"central_meridian\",-92.5],PARAMETER[\"scale_factor\",0.999933333],PARAMETER[\"latitude_of_origin\",35.83333333333334],UNIT[\"Foot_US\",0.3048006096012192]]"
  }
 },
 "pixelSizeX": 0.25,
 "pixelSizeY": 0.25,
 "bandCount": 4,
 "pixelType": "U8",
 "minPixelSize": 0,
 "maxPixelSize": 0,
 "copyrightText": "",
 "serviceDataType": "esriImageServiceDataTypeGeneric",
 "minValues": [
  23,
  52,
  39,
  0
 ],
 "maxValues": [
  255,
  255,
  255,
  255
 ],
 "meanValues": [
  167.12173913043,
  160.34264214047,
  145.49515050167,
  184.77491638796
 ],
 "stdvValues": [
  56.953077814642,
  60.01854636194,
  67.932952952773,
  112.76777944006
 ],
 "objectIdField": "",
 "fields": [],
 "capabilities": "Image,Metadata,Mensuration",
 "defaultMosaicMethod": "Center",
 "allowedMosaicMethods": "",
 "sortField": "",
 "sortValue": null,
 "sortAscending": true,
 "mosaicOperator": "First",
 "defaultCompressionQuality": 75,
 "defaultResamplingMethod": "Bilinear",
 "maxImageHeight": 4100,
 "maxImageWidth": 15000,
 "allowRasterFunction": true,
 "rasterFunctionInfos": [
  {
   "name": "None",
   "description": "",
   "help": ""
  }
 ],
 "rasterTypeInfos": [
  {
   "name": "Raster Dataset",
   "description": "Supports all ArcGIS Raster Datasets",
   "help": ""
  }
 ],
 "mensurationCapabilities": "Basic",
 "hasHistograms": true,
 "hasColormap": false,
 "hasRasterAttributeTable": false,
 "minScale": 0,
 "maxScale": 0,
 "exportTilesAllowed": false,
 "hasMultidimensions": false,
 "supportsStatistics": false,
 "supportsAdvancedQueries": false,
 "editFieldsInfo": null,
 "ownershipBasedAccessControlForRasters": null,
 "allowComputeTiePoints": false,
 "useStandardizedQueries": true,
 "advancedQueryCapabilities": {
  "useStandardizedQueries": true,
  "supportsStatistics": false,
  "supportsOrderBy": false,
  "supportsDistinct": false,
  "supportsPagination": false
 },
 "spatialReference": {
  "wkt": "PROJCS[\"NAD_1983_Missouri_Central\",GEOGCS[\"GCS_North_American_1983\",DATUM[\"D_North_American_1983\",SPHEROID[\"GRS_1980\",6378137.0,298.257222101]],PRIMEM[\"Greenwich\",0.0],UNIT[\"Degree\",0.0174532925199433]],PROJECTION[\"Transverse_Mercator\"],PARAMETER[\"false_easting\",1640416.666666667],PARAMETER[\"false_northing\",0.0],PARAMETER[\"central_meridian\",-92.5],PARAMETER[\"scale_factor\",0.999933333],PARAMETER[\"latitude_of_origin\",35.83333333333334],UNIT[\"Foot_US\",0.3048006096012192]]"
 }
}
