{
 "currentVersion": 10.91,
 "serviceDescription": "MO/Newton_Photography_2022",
 "name": "MO/Newton_Photography_2022",
 "description": "",
 "extent": {
  "xmin": 2753256,
  "ymin": 209880.25,
  "xmax": 2919576,
  "ymax": 368280,
  "spatialReference": {
   "wkid": 102698,
   "latestWkid": 102698
  }
 },
 "initialExtent": {
  "xmin": 2753256,
  "ymin": 209880.25,
  "xmax": 2919576,
  "ymax": 368280,
  "spatialReference": {
   "wkid": 102698,
   "latestWkid": 102698
  }
 },
 "fullExtent": {
  "xmin": 2753256,
  "ymin": 209880.25,
  "xmax": 2919576,
  "ymax": 368280,
  "spatialReference": {
   "wkid": 102698,
   "latestWkid": 102698
  }
 },
 "hasMultidimensions": false,
 "pixelSizeX": 0.25,
 "pixelSizeY": 0.25,
 "datasetFormat": "MrSID",
 "uncompressedSize": 1686082970880,
 "blockWidth": 1024,
 "blockHeight": 128,
 "compressionType": "Wavelet (MG4)",
 "bandNames": [
  "Band_1",
  "Band_2",
  "Band_3",
  "Band_4"
 ],
 "allowCopy": true,
 "allowAnalysis": true,
 "bandCount": 4,
 "pixelType": "U8",
 "minPixelSize": 0,
 "maxPixelSize": 0,
 "copyrightText": "",
 "serviceDataType": "esriImageServiceDataTypeGeneric",
 "serviceSourceType": "esriImageServiceSourceTypeDataset",
 "minValues": [
  67,
  37,
  28,
  0
 ],
 "maxValues": [
  255,
  255,
  255,
  255
 ],
 "meanValues": [
  171.73155096936,
  159.48155096936,
  142.23139462164,
  185.62757973734
 ],
 "stdvValues": [
  53.809565759845,
  60.371096535565,
  69.687129730137,
  111.7824856245
 ],
 "objectIdField": "",
 "fields": [],
 "capabilities": "Image,Metadata,Mensuration",
 "defaultMosaicMethod": "Center",
 "allowedMosaicMethods": "",
 "sortField": "",
 "sortValue": null,
 "sortAscending": true,
 "mosaicOperator": "First",
 "defaultCompressionQuality": 75,
 "defaultResamplingMethod": "Bilinear",
 "maxImageHeight": 4100,
 "maxImageWidth": 15000,
 "allowRasterFunction": true,
 "rasterFunctionInfos": [
  {
   "name": "None",
   "description": "",
   "help": ""
  }
 ],
 "rasterTypeInfos": [
  {
   "name": "Raster Dataset",
   "description": "Supports all ArcGIS Raster Datasets",
   "help": ""
  }
 ],
 "mensurationCapabilities": "Basic",
 "hasHistograms": true,
 "hasColormap": false,
 "hasRasterAttributeTable": false,
 "minScale": 0,
 "maxScale": 0,
 "exportTilesAllowed": false,
 "supportsStatistics": false,
 "supportsAdvancedQueries": false,
 "editFieldsInfo": null,
 "ownershipBasedAccessControlForRasters": null,
 "allowComputeTiePoints": false,
 "useStandardizedQueries": true,
 "advancedQueryCapabilities": {
  "useStandardizedQueries": true,
  "supportsStatistics": false,
  "supportsOrderBy": false,
  "supportsDistinct": false,
  "supportsPagination": false
 },
 "spatialReference": {
  "wkid": 102698,
  "latestWkid": 102698
 }
}
