{
 "currentVersion": 10.91,
 "serviceDescription": "MO/Polk_Photography_2023",
 "name": "MO/Polk_Photography_2023",
 "description": "",
 "extent": {
  "xmin": 1312608,
  "ymin": 576840,
  "xmax": 1447248,
  "ymax": 729960,
  "spatialReference": {
   "wkid": 102697,
   "latestWkid": 102697
  }
 },
 "initialExtent": {
  "xmin": 1312608,
  "ymin": 576840,
  "xmax": 1447248,
  "ymax": 729960,
  "spatialReference": {
   "wkid": 102697,
   "latestWkid": 102697
  }
 },
 "fullExtent": {
  "xmin": 1312608,
  "ymin": 576840,
  "xmax": 1447248,
  "ymax": 729960,
  "spatialReference": {
   "wkid": 102697,
   "latestWkid": 102697
  }
 },
 "hasMultidimensions": false,
 "pixelSizeX": 0.25,
 "pixelSizeY": 0.25,
 "datasetFormat": "MrSID",
 "uncompressedSize": 1319428915200,
 "blockWidth": 1024,
 "blockHeight": 128,
 "compressionType": "Wavelet (MG4)",
 "bandNames": [
  "Band_1",
  "Band_2",
  "Band_3",
  "Band_4"
 ],
 "allowCopy": true,
 "allowAnalysis": true,
 "bandCount": 4,
 "pixelType": "U8",
 "minPixelSize": 0,
 "maxPixelSize": 0,
 "copyrightText": "",
 "serviceDataType": "esriImageServiceDataTypeGeneric",
 "serviceSourceType": "esriImageServiceSourceTypeDataset",
 "minValues": [
  55,
  75,
  11,
  0
 ],
 "maxValues": [
  255,
  255,
  255,
  255
 ],
 "meanValues": [
  151.33414141414,
  139.21414141414,
  110.87696969697,
  229.69595959596
 ],
 "stdvValues": [
  36.892487341499,
  40.200505072713,
  48.519949192112,
  74.7366790525
 ],
 "objectIdField": "",
 "fields": [],
 "capabilities": "Image,Metadata,Mensuration",
 "defaultMosaicMethod": "Center",
 "allowedMosaicMethods": "",
 "sortField": "",
 "sortValue": null,
 "sortAscending": true,
 "mosaicOperator": "First",
 "defaultCompressionQuality": 75,
 "defaultResamplingMethod": "Bilinear",
 "maxImageHeight": 4100,
 "maxImageWidth": 15000,
 "allowRasterFunction": true,
 "rasterFunctionInfos": [
  {
   "name": "None",
   "description": "",
   "help": ""
  }
 ],
 "rasterTypeInfos": [
  {
   "name": "Raster Dataset",
   "description": "Supports all ArcGIS Raster Datasets",
   "help": ""
  }
 ],
 "mensurationCapabilities": "Basic",
 "hasHistograms": true,
 "hasColormap": false,
 "hasRasterAttributeTable": false,
 "minScale": 0,
 "maxScale": 0,
 "exportTilesAllowed": false,
 "supportsStatistics": false,
 "supportsAdvancedQueries": false,
 "editFieldsInfo": null,
 "ownershipBasedAccessControlForRasters": null,
 "allowComputeTiePoints": false,
 "useStandardizedQueries": true,
 "advancedQueryCapabilities": {
  "useStandardizedQueries": true,
  "supportsStatistics": false,
  "supportsOrderBy": false,
  "supportsDistinct": false,
  "supportsPagination": false
 },
 "spatialReference": {
  "wkid": 102697,
  "latestWkid": 102697
 }
}
