{
 "currentVersion": 10.91,
 "serviceDescription": "MO/Sedalia_Photography_2022",
 "name": "MO/Sedalia_Photography_2022",
 "description": "",
 "extent": {
  "xmin": 1349568,
  "ymin": 972839.9967792,
  "xmax": 1484208.0026928,
  "ymax": 1133880,
  "spatialReference": {
   "wkid": 102697,
   "latestWkid": 102697
  }
 },
 "initialExtent": {
  "xmin": 1349568,
  "ymin": 972839.9967792,
  "xmax": 1484208.0026928,
  "ymax": 1133880,
  "spatialReference": {
   "wkid": 102697,
   "latestWkid": 102697
  }
 },
 "fullExtent": {
  "xmin": 1349568,
  "ymin": 972839.9967792,
  "xmax": 1484208.0026928,
  "ymax": 1133880,
  "spatialReference": {
   "wkid": 102697,
   "latestWkid": 102697
  }
 },
 "hasMultidimensions": false,
 "pixelSizeX": 0.16666667000000002,
 "pixelSizeY": 0.16666666999999996,
 "datasetFormat": "MrSID",
 "uncompressedSize": 3122269286400,
 "blockWidth": 1024,
 "blockHeight": 128,
 "compressionType": "Wavelet (MG4)",
 "bandNames": [
  "Band_1",
  "Band_2",
  "Band_3",
  "Band_4"
 ],
 "allowCopy": true,
 "allowAnalysis": true,
 "bandCount": 4,
 "pixelType": "U8",
 "minPixelSize": 0,
 "maxPixelSize": 0,
 "copyrightText": "",
 "serviceDataType": "esriImageServiceDataTypeGeneric",
 "serviceSourceType": "esriImageServiceSourceTypeDataset",
 "minValues": [
  0,
  0,
  0,
  0
 ],
 "maxValues": [
  251,
  216,
  167,
  255
 ],
 "meanValues": [
  146.05559322034,
  121.01016949153,
  95.545762711864,
  233.68
 ],
 "stdvValues": [
  48.381257341415,
  40.807259635441,
  31.71643065622,
  66.301867243691
 ],
 "objectIdField": "",
 "fields": [],
 "capabilities": "Image,Metadata,Mensuration",
 "defaultMosaicMethod": "Center",
 "allowedMosaicMethods": "",
 "sortField": "",
 "sortValue": null,
 "sortAscending": true,
 "mosaicOperator": "First",
 "defaultCompressionQuality": 75,
 "defaultResamplingMethod": "Bilinear",
 "maxImageHeight": 4100,
 "maxImageWidth": 15000,
 "allowRasterFunction": true,
 "rasterFunctionInfos": [
  {
   "name": "None",
   "description": "",
   "help": ""
  }
 ],
 "rasterTypeInfos": [
  {
   "name": "Raster Dataset",
   "description": "Supports all ArcGIS Raster Datasets",
   "help": ""
  }
 ],
 "mensurationCapabilities": "Basic",
 "hasHistograms": true,
 "hasColormap": false,
 "hasRasterAttributeTable": false,
 "minScale": 0,
 "maxScale": 0,
 "exportTilesAllowed": false,
 "supportsStatistics": false,
 "supportsAdvancedQueries": false,
 "editFieldsInfo": null,
 "ownershipBasedAccessControlForRasters": null,
 "allowComputeTiePoints": false,
 "useStandardizedQueries": true,
 "advancedQueryCapabilities": {
  "useStandardizedQueries": true,
  "supportsStatistics": false,
  "supportsOrderBy": false,
  "supportsDistinct": false,
  "supportsPagination": false
 },
 "spatialReference": {
  "wkid": 102697,
  "latestWkid": 102697
 }
}
