{
 "currentVersion": 10.91,
 "serviceDescription": "MO/Smithville_2021_Photography",
 "name": "MO/Smithville_2021_Photography",
 "description": "",
 "extent": {
  "xmin": 2755000,
  "ymin": 1145000,
  "xmax": 2780000,
  "ymax": 1200000,
  "spatialReference": {
   "wkid": 102698,
   "latestWkid": 102698
  }
 },
 "initialExtent": {
  "xmin": 2755000,
  "ymin": 1145000,
  "xmax": 2780000,
  "ymax": 1200000,
  "spatialReference": {
   "wkid": 102698,
   "latestWkid": 102698
  }
 },
 "fullExtent": {
  "xmin": 2755000,
  "ymin": 1145000,
  "xmax": 2780000,
  "ymax": 1200000,
  "spatialReference": {
   "wkid": 102698,
   "latestWkid": 102698
  }
 },
 "hasMultidimensions": false,
 "pixelSizeX": 0.5,
 "pixelSizeY": 0.5,
 "datasetFormat": "MrSID",
 "uncompressedSize": 16500000000,
 "blockWidth": 1024,
 "blockHeight": 128,
 "compressionType": "Wavelet (MG3)",
 "bandNames": [
  "Band_1",
  "Band_2",
  "Band_3"
 ],
 "allowCopy": true,
 "allowAnalysis": true,
 "bandCount": 3,
 "pixelType": "U8",
 "minPixelSize": 0,
 "maxPixelSize": 0,
 "copyrightText": "",
 "serviceDataType": "esriImageServiceDataTypeRGB",
 "serviceSourceType": "esriImageServiceSourceTypeDataset",
 "minValues": [
  0,
  0,
  0
 ],
 "maxValues": [
  202,
  195,
  189
 ],
 "meanValues": [
  124.01889644747,
  118.67573696145,
  99.422335600907
 ],
 "stdvValues": [
  39.024620865587,
  35.364182305561,
  32.458541147303
 ],
 "objectIdField": "",
 "fields": [],
 "capabilities": "Image,Metadata,Mensuration",
 "defaultMosaicMethod": "Center",
 "allowedMosaicMethods": "",
 "sortField": "",
 "sortValue": null,
 "sortAscending": true,
 "mosaicOperator": "First",
 "defaultCompressionQuality": 75,
 "defaultResamplingMethod": "Bilinear",
 "maxImageHeight": 4100,
 "maxImageWidth": 15000,
 "allowRasterFunction": true,
 "rasterFunctionInfos": [
  {
   "name": "None",
   "description": "",
   "help": ""
  }
 ],
 "rasterTypeInfos": [
  {
   "name": "Raster Dataset",
   "description": "Supports all ArcGIS Raster Datasets",
   "help": ""
  }
 ],
 "mensurationCapabilities": "Basic",
 "hasHistograms": true,
 "hasColormap": false,
 "hasRasterAttributeTable": false,
 "minScale": 0,
 "maxScale": 0,
 "exportTilesAllowed": false,
 "supportsStatistics": false,
 "supportsAdvancedQueries": false,
 "editFieldsInfo": null,
 "ownershipBasedAccessControlForRasters": null,
 "allowComputeTiePoints": false,
 "useStandardizedQueries": true,
 "advancedQueryCapabilities": {
  "useStandardizedQueries": true,
  "supportsStatistics": false,
  "supportsOrderBy": false,
  "supportsDistinct": false,
  "supportsPagination": false
 },
 "spatialReference": {
  "wkid": 102698,
  "latestWkid": 102698
 }
}
