View In:
ArcGIS JavaScript
ArcGIS Online Map Viewer
ArcGIS Earth
ArcMap
View Footprint In:
ArcGIS Online Map Viewer
Service Description: OK/Beaver_Photography_2023
Name: OK/Beaver_Photography_2023
Description:
Single Fused Map Cache: false
Extent:
XMin: 1085128.5833346802
YMin: 528322.9116601355
XMax: 1385937.03683468
YMax: 763629.5276601354
Spatial Reference: 102724
(2267)
LatestVCSWkid(0)
Initial Extent:
XMin: 1085128.5833346802
YMin: 528322.9116601355
XMax: 1385937.03683468
YMax: 763629.5276601354
Spatial Reference: 102724
(2267)
LatestVCSWkid(0)
Full Extent:
XMin: 1085128.5833346802
YMin: 528322.9116601355
XMax: 1385937.03683468
YMax: 763629.5276601354
Spatial Reference: 102724
(2267)
LatestVCSWkid(0)
Pixel Size X: 0.9842499999999994
Pixel Size Y: 0.9842499999999996
Band Count: 3
Pixel Type: U8
RasterFunction Infos: {"rasterFunctionInfos": [{
"name": "None",
"description": "",
"help": ""
}]}
Mensuration Capabilities: Basic
Has Histograms: true
Has Colormap: false
Has Multi Dimensions : false
Rendering Rule:
Min Scale: 0
Max Scale: 0
Copyright Text:
Service Data Type: esriImageServiceDataTypeRGB
Min Values: 0, 0, 0
Max Values: 213, 194, 163
Mean Values: 125.66779661017, 119.37220338983, 96.863728813559
Standard Deviation Values: 41.996323920418, 38.044267943984, 31.899173176946
Object ID Field:
Fields:
None
Default Mosaic Method: Center
Allowed Mosaic Methods:
SortField:
SortValue: null
Mosaic Operator: First
Default Compression Quality: 75
Default Resampling Method: Bilinear
Max Record Count: null
Max Image Height: 4100
Max Image Width: 15000
Max Download Image Count: null
Max Mosaic Image Count: null
Allow Raster Function: true
Allow Copy: null
Allow Analysis: null
Allow Compute TiePoints: false
Supports Statistics: false
Supports Advanced Queries: false
Use StandardizedQueries: true
Raster Type Infos:
Name: Raster Dataset
Description: Supports all ArcGIS Raster Datasets
Help:
Has Raster Attribute Table: false
Edit Fields Info: null
Ownership Based AccessControl For Rasters: null
Child Resources:
Info
Histograms
Key Properties
Legend
Raster Function Infos
Supported Operations:
Export Image
Identify
Measure
Compute Histograms
Compute Statistics Histograms
Get Samples
Compute Class Statistics
Query Boundary
Compute Pixel Location
Compute Angles
Validate
Project