{
 "currentVersion": 10.91,
 "serviceDescription": "OK/Beaver_Photography_2023",
 "name": "OK/Beaver_Photography_2023",
 "description": "",
 "extent": {
  "xmin": 1085128.5833346802,
  "ymin": 528322.9116601355,
  "xmax": 1385937.03683468,
  "ymax": 763629.5276601354,
  "spatialReference": {
   "wkid": 102724,
   "latestWkid": 2267
  }
 },
 "initialExtent": {
  "xmin": 1085128.5833346802,
  "ymin": 528322.9116601355,
  "xmax": 1385937.03683468,
  "ymax": 763629.5276601354,
  "spatialReference": {
   "wkid": 102724,
   "latestWkid": 2267
  }
 },
 "fullExtent": {
  "xmin": 1085128.5833346802,
  "ymin": 528322.9116601355,
  "xmax": 1385937.03683468,
  "ymax": 763629.5276601354,
  "spatialReference": {
   "wkid": 102724,
   "latestWkid": 2267
  }
 },
 "pixelSizeX": 0.9842499999999994,
 "pixelSizeY": 0.9842499999999996,
 "bandCount": 3,
 "pixelType": "U8",
 "minPixelSize": 0,
 "maxPixelSize": 0,
 "copyrightText": "",
 "serviceDataType": "esriImageServiceDataTypeRGB",
 "minValues": [
  0,
  0,
  0
 ],
 "maxValues": [
  213,
  194,
  163
 ],
 "meanValues": [
  125.66779661017,
  119.37220338983,
  96.863728813559
 ],
 "stdvValues": [
  41.996323920418,
  38.044267943984,
  31.899173176946
 ],
 "objectIdField": "",
 "fields": [],
 "capabilities": "Image,Metadata,Mensuration",
 "defaultMosaicMethod": "Center",
 "allowedMosaicMethods": "",
 "sortField": "",
 "sortValue": null,
 "sortAscending": true,
 "mosaicOperator": "First",
 "defaultCompressionQuality": 75,
 "defaultResamplingMethod": "Bilinear",
 "maxImageHeight": 4100,
 "maxImageWidth": 15000,
 "allowRasterFunction": true,
 "rasterFunctionInfos": [
  {
   "name": "None",
   "description": "",
   "help": ""
  }
 ],
 "rasterTypeInfos": [
  {
   "name": "Raster Dataset",
   "description": "Supports all ArcGIS Raster Datasets",
   "help": ""
  }
 ],
 "mensurationCapabilities": "Basic",
 "hasHistograms": true,
 "hasColormap": false,
 "hasRasterAttributeTable": false,
 "minScale": 0,
 "maxScale": 0,
 "exportTilesAllowed": false,
 "hasMultidimensions": false,
 "supportsStatistics": false,
 "supportsAdvancedQueries": false,
 "editFieldsInfo": null,
 "ownershipBasedAccessControlForRasters": null,
 "allowComputeTiePoints": false,
 "useStandardizedQueries": true,
 "advancedQueryCapabilities": {
  "useStandardizedQueries": true,
  "supportsStatistics": false,
  "supportsOrderBy": false,
  "supportsDistinct": false,
  "supportsPagination": false
 },
 "spatialReference": {
  "wkid": 102724,
  "latestWkid": 2267
 }
}
