View In:
ArcGIS JavaScript
ArcGIS Online Map Viewer
ArcGIS Earth
ArcMap
View Footprint In:
ArcGIS Online Map Viewer
Service Description: OK/Caddo_Photography_2023
Name: OK/Caddo_Photography_2023
Description:
Single Fused Map Cache: false
Extent:
XMin: 1778873.2362923934
YMin: 536211.6198660771
XMax: 1953470.3280423933
YMax: 813500.4353660771
Spatial Reference: 102725
(2268)
LatestVCSWkid(0)
Initial Extent:
XMin: 1778873.2362923934
YMin: 536211.6198660771
XMax: 1953470.3280423933
YMax: 813500.4353660771
Spatial Reference: 102725
(2268)
LatestVCSWkid(0)
Full Extent:
XMin: 1778873.2362923934
YMin: 536211.6198660771
XMax: 1953470.3280423933
YMax: 813500.4353660771
Spatial Reference: 102725
(2268)
LatestVCSWkid(0)
Pixel Size X: 0.9842499999999995
Pixel Size Y: 0.9842500000000001
Band Count: 3
Pixel Type: U8
RasterFunction Infos: {"rasterFunctionInfos": [{
"name": "None",
"description": "",
"help": ""
}]}
Mensuration Capabilities: Basic
Has Histograms: true
Has Colormap: false
Has Multi Dimensions : false
Rendering Rule:
Min Scale: 0
Max Scale: 0
Copyright Text:
Service Data Type: esriImageServiceDataTypeRGB
Min Values: 0, 0, 0
Max Values: 193, 160, 130
Mean Values: 91.377470355731, 100.19400527009, 64.169631093544
Standard Deviation Values: 37.566127110968, 35.839235952074, 24.301504532133
Object ID Field:
Fields:
None
Default Mosaic Method: Center
Allowed Mosaic Methods:
SortField:
SortValue: null
Mosaic Operator: First
Default Compression Quality: 75
Default Resampling Method: Bilinear
Max Record Count: null
Max Image Height: 4100
Max Image Width: 15000
Max Download Image Count: null
Max Mosaic Image Count: null
Allow Raster Function: true
Allow Copy: null
Allow Analysis: null
Allow Compute TiePoints: false
Supports Statistics: false
Supports Advanced Queries: false
Use StandardizedQueries: true
Raster Type Infos:
Name: Raster Dataset
Description: Supports all ArcGIS Raster Datasets
Help:
Has Raster Attribute Table: false
Edit Fields Info: null
Ownership Based AccessControl For Rasters: null
Child Resources:
Info
Histograms
Key Properties
Legend
Raster Function Infos
Supported Operations:
Export Image
Identify
Measure
Compute Histograms
Compute Statistics Histograms
Get Samples
Compute Class Statistics
Query Boundary
Compute Pixel Location
Compute Angles
Validate
Project