{
 "currentVersion": 10.91,
 "serviceDescription": "OK/Caddo_Photography_2023",
 "name": "OK/Caddo_Photography_2023",
 "description": "",
 "extent": {
  "xmin": 1778873.2362923934,
  "ymin": 536211.6198660771,
  "xmax": 1953470.3280423933,
  "ymax": 813500.4353660771,
  "spatialReference": {
   "wkid": 102725,
   "latestWkid": 2268
  }
 },
 "initialExtent": {
  "xmin": 1778873.2362923934,
  "ymin": 536211.6198660771,
  "xmax": 1953470.3280423933,
  "ymax": 813500.4353660771,
  "spatialReference": {
   "wkid": 102725,
   "latestWkid": 2268
  }
 },
 "fullExtent": {
  "xmin": 1778873.2362923934,
  "ymin": 536211.6198660771,
  "xmax": 1953470.3280423933,
  "ymax": 813500.4353660771,
  "spatialReference": {
   "wkid": 102725,
   "latestWkid": 2268
  }
 },
 "pixelSizeX": 0.9842499999999995,
 "pixelSizeY": 0.9842500000000001,
 "bandCount": 3,
 "pixelType": "U8",
 "minPixelSize": 0,
 "maxPixelSize": 0,
 "copyrightText": "",
 "serviceDataType": "esriImageServiceDataTypeRGB",
 "minValues": [
  0,
  0,
  0
 ],
 "maxValues": [
  193,
  160,
  130
 ],
 "meanValues": [
  91.377470355731,
  100.19400527009,
  64.169631093544
 ],
 "stdvValues": [
  37.566127110968,
  35.839235952074,
  24.301504532133
 ],
 "objectIdField": "",
 "fields": [],
 "capabilities": "Image,Metadata,Mensuration",
 "defaultMosaicMethod": "Center",
 "allowedMosaicMethods": "",
 "sortField": "",
 "sortValue": null,
 "sortAscending": true,
 "mosaicOperator": "First",
 "defaultCompressionQuality": 75,
 "defaultResamplingMethod": "Bilinear",
 "maxImageHeight": 4100,
 "maxImageWidth": 15000,
 "allowRasterFunction": true,
 "rasterFunctionInfos": [
  {
   "name": "None",
   "description": "",
   "help": ""
  }
 ],
 "rasterTypeInfos": [
  {
   "name": "Raster Dataset",
   "description": "Supports all ArcGIS Raster Datasets",
   "help": ""
  }
 ],
 "mensurationCapabilities": "Basic",
 "hasHistograms": true,
 "hasColormap": false,
 "hasRasterAttributeTable": false,
 "minScale": 0,
 "maxScale": 0,
 "exportTilesAllowed": false,
 "hasMultidimensions": false,
 "supportsStatistics": false,
 "supportsAdvancedQueries": false,
 "editFieldsInfo": null,
 "ownershipBasedAccessControlForRasters": null,
 "allowComputeTiePoints": false,
 "useStandardizedQueries": true,
 "advancedQueryCapabilities": {
  "useStandardizedQueries": true,
  "supportsStatistics": false,
  "supportsOrderBy": false,
  "supportsDistinct": false,
  "supportsPagination": false
 },
 "spatialReference": {
  "wkid": 102725,
  "latestWkid": 2268
 }
}
