{
 "currentVersion": 10.91,
 "serviceDescription": "OK/Hughes_Photography_2023",
 "name": "OK/Hughes_Photography_2023",
 "description": "",
 "extent": {
  "xmin": 2412951.177647006,
  "ymin": 516731.7506053276,
  "xmax": 2586928.1918970062,
  "ymax": 729317.9396053276,
  "spatialReference": {
   "wkid": 102725,
   "latestWkid": 2268
  }
 },
 "initialExtent": {
  "xmin": 2412951.177647006,
  "ymin": 516731.7506053276,
  "xmax": 2586928.1918970062,
  "ymax": 729317.9396053276,
  "spatialReference": {
   "wkid": 102725,
   "latestWkid": 2268
  }
 },
 "fullExtent": {
  "xmin": 2412951.177647006,
  "ymin": 516731.7506053276,
  "xmax": 2586928.1918970062,
  "ymax": 729317.9396053276,
  "spatialReference": {
   "wkid": 102725,
   "latestWkid": 2268
  }
 },
 "pixelSizeX": 0.9842500000000001,
 "pixelSizeY": 0.9842499999999997,
 "bandCount": 3,
 "pixelType": "U8",
 "minPixelSize": 0,
 "maxPixelSize": 0,
 "copyrightText": "",
 "serviceDataType": "esriImageServiceDataTypeRGB",
 "minValues": [
  0,
  0,
  0
 ],
 "maxValues": [
  238,
  216,
  200
 ],
 "meanValues": [
  71.203643461288,
  86.528735632184,
  59.648666232921
 ],
 "stdvValues": [
  41.654150656624,
  45.777741232984,
  31.636880051898
 ],
 "objectIdField": "",
 "fields": [],
 "capabilities": "Image,Metadata,Mensuration",
 "defaultMosaicMethod": "Center",
 "allowedMosaicMethods": "",
 "sortField": "",
 "sortValue": null,
 "sortAscending": true,
 "mosaicOperator": "First",
 "defaultCompressionQuality": 75,
 "defaultResamplingMethod": "Bilinear",
 "maxImageHeight": 4100,
 "maxImageWidth": 15000,
 "allowRasterFunction": true,
 "rasterFunctionInfos": [
  {
   "name": "None",
   "description": "",
   "help": ""
  }
 ],
 "rasterTypeInfos": [
  {
   "name": "Raster Dataset",
   "description": "Supports all ArcGIS Raster Datasets",
   "help": ""
  }
 ],
 "mensurationCapabilities": "Basic",
 "hasHistograms": true,
 "hasColormap": false,
 "hasRasterAttributeTable": false,
 "minScale": 0,
 "maxScale": 0,
 "exportTilesAllowed": false,
 "hasMultidimensions": false,
 "supportsStatistics": false,
 "supportsAdvancedQueries": false,
 "editFieldsInfo": null,
 "ownershipBasedAccessControlForRasters": null,
 "allowComputeTiePoints": false,
 "useStandardizedQueries": true,
 "advancedQueryCapabilities": {
  "useStandardizedQueries": true,
  "supportsStatistics": false,
  "supportsOrderBy": false,
  "supportsDistinct": false,
  "supportsPagination": false
 },
 "spatialReference": {
  "wkid": 102725,
  "latestWkid": 2268
 }
}
