{
 "currentVersion": 10.91,
 "serviceDescription": "OK/Kingfisher_Photography_2023",
 "name": "OK/Kingfisher_Photography_2023",
 "description": "",
 "extent": {
  "xmin": 1891863.9338154364,
  "ymin": 247476.5126810174,
  "xmax": 2082714.9300654363,
  "ymax": 435379.6801810174,
  "spatialReference": {
   "wkid": 102724,
   "latestWkid": 2267
  }
 },
 "initialExtent": {
  "xmin": 1891863.9338154364,
  "ymin": 247476.5126810174,
  "xmax": 2082714.9300654363,
  "ymax": 435379.6801810174,
  "spatialReference": {
   "wkid": 102724,
   "latestWkid": 2267
  }
 },
 "fullExtent": {
  "xmin": 1891863.9338154364,
  "ymin": 247476.5126810174,
  "xmax": 2082714.9300654363,
  "ymax": 435379.6801810174,
  "spatialReference": {
   "wkid": 102724,
   "latestWkid": 2267
  }
 },
 "pixelSizeX": 0.9842499999999992,
 "pixelSizeY": 0.9842499999999998,
 "bandCount": 3,
 "pixelType": "U8",
 "minPixelSize": 0,
 "maxPixelSize": 0,
 "copyrightText": "",
 "serviceDataType": "esriImageServiceDataTypeRGB",
 "minValues": [
  0,
  0,
  0
 ],
 "maxValues": [
  247,
  211,
  182
 ],
 "meanValues": [
  109.26942889138,
  113.20380739082,
  73.182754759239
 ],
 "stdvValues": [
  35.842806856735,
  29.359171074015,
  21.578258686799
 ],
 "objectIdField": "",
 "fields": [],
 "capabilities": "Image,Metadata,Mensuration",
 "defaultMosaicMethod": "Center",
 "allowedMosaicMethods": "",
 "sortField": "",
 "sortValue": null,
 "sortAscending": true,
 "mosaicOperator": "First",
 "defaultCompressionQuality": 75,
 "defaultResamplingMethod": "Bilinear",
 "maxImageHeight": 4100,
 "maxImageWidth": 15000,
 "allowRasterFunction": true,
 "rasterFunctionInfos": [
  {
   "name": "None",
   "description": "",
   "help": ""
  }
 ],
 "rasterTypeInfos": [
  {
   "name": "Raster Dataset",
   "description": "Supports all ArcGIS Raster Datasets",
   "help": ""
  }
 ],
 "mensurationCapabilities": "Basic",
 "hasHistograms": true,
 "hasColormap": false,
 "hasRasterAttributeTable": false,
 "minScale": 0,
 "maxScale": 0,
 "exportTilesAllowed": false,
 "hasMultidimensions": false,
 "supportsStatistics": false,
 "supportsAdvancedQueries": false,
 "editFieldsInfo": null,
 "ownershipBasedAccessControlForRasters": null,
 "allowComputeTiePoints": false,
 "useStandardizedQueries": true,
 "advancedQueryCapabilities": {
  "useStandardizedQueries": true,
  "supportsStatistics": false,
  "supportsOrderBy": false,
  "supportsDistinct": false,
  "supportsPagination": false
 },
 "spatialReference": {
  "wkid": 102724,
  "latestWkid": 2267
 }
}
