{
 "currentVersion": 10.91,
 "serviceDescription": "OK/Lincoln_2025Naip",
 "name": "OK/Lincoln_2025Naip",
 "description": "",
 "extent": {
  "xmin": 663350.9999999999,
  "ymin": 3923057.9999893913,
  "xmax": 721271.9999999999,
  "ymax": 3986709,
  "spatialReference": {
   "wkid": 26914,
   "latestWkid": 26914
  }
 },
 "initialExtent": {
  "xmin": 663350.9999999999,
  "ymin": 3923057.9999893913,
  "xmax": 721271.9999999999,
  "ymax": 3986709,
  "spatialReference": {
   "wkid": 26914,
   "latestWkid": 26914
  }
 },
 "fullExtent": {
  "xmin": 663350.9999999999,
  "ymin": 3923057.9999893913,
  "xmax": 721271.9999999999,
  "ymax": 3986709,
  "spatialReference": {
   "wkid": 26914,
   "latestWkid": 26914
  }
 },
 "hasMultidimensions": false,
 "pixelSizeX": 0.6,
 "pixelSizeY": 0.6000000001000019,
 "datasetFormat": "MrSID",
 "uncompressedSize": 51204577375,
 "blockWidth": 1024,
 "blockHeight": 128,
 "compressionType": "Wavelet (MG4)",
 "bandNames": [
  "Band_1",
  "Band_2",
  "Band_3",
  "Band_4",
  "Band_5"
 ],
 "allowCopy": true,
 "allowAnalysis": true,
 "bandCount": 5,
 "pixelType": "U8",
 "minPixelSize": 0,
 "maxPixelSize": 0,
 "copyrightText": "",
 "serviceDataType": "esriImageServiceDataTypeGeneric",
 "serviceSourceType": "esriImageServiceSourceTypeDataset",
 "minValues": [
  0,
  0,
  0,
  0,
  0
 ],
 "maxValues": [
  237,
  211,
  181,
  255,
  255
 ],
 "meanValues": [
  127.48775303644,
  125.19210526316,
  97.693522267206,
  179.04585020243,
  243.08431174089
 ],
 "stdvValues": [
  32.703824446274,
  29.869780444907,
  23.686831582709,
  40.652825854861,
  51.260267825307
 ],
 "objectIdField": "",
 "fields": [],
 "capabilities": "Image,Metadata,Mensuration",
 "defaultMosaicMethod": "Center",
 "allowedMosaicMethods": "",
 "sortField": "",
 "sortValue": null,
 "sortAscending": true,
 "mosaicOperator": "First",
 "defaultCompressionQuality": 75,
 "defaultResamplingMethod": "Bilinear",
 "maxImageHeight": 4100,
 "maxImageWidth": 15000,
 "allowRasterFunction": true,
 "rasterFunctionInfos": [
  {
   "name": "None",
   "description": "",
   "help": ""
  }
 ],
 "rasterTypeInfos": [
  {
   "name": "Raster Dataset",
   "description": "Supports all ArcGIS Raster Datasets",
   "help": ""
  }
 ],
 "mensurationCapabilities": "Basic",
 "hasHistograms": true,
 "hasColormap": false,
 "hasRasterAttributeTable": false,
 "minScale": 0,
 "maxScale": 0,
 "exportTilesAllowed": false,
 "supportsStatistics": false,
 "supportsAdvancedQueries": false,
 "editFieldsInfo": null,
 "ownershipBasedAccessControlForRasters": null,
 "allowComputeTiePoints": false,
 "useStandardizedQueries": true,
 "advancedQueryCapabilities": {
  "useStandardizedQueries": true,
  "supportsStatistics": false,
  "supportsOrderBy": false,
  "supportsDistinct": false,
  "supportsPagination": false
 },
 "spatialReference": {
  "wkid": 26914,
  "latestWkid": 26914
 }
}
