{
 "currentVersion": 10.91,
 "serviceDescription": "OK/Lincoln_Photography_2023",
 "name": "OK/Lincoln_Photography_2023",
 "description": "",
 "extent": {
  "xmin": 2205768.675561391,
  "ymin": 157432.6442789642,
  "xmax": 2399770.256061391,
  "ymax": 370046.39227896417,
  "spatialReference": {
   "wkid": 102724,
   "latestWkid": 2267
  }
 },
 "initialExtent": {
  "xmin": 2205768.675561391,
  "ymin": 157432.6442789642,
  "xmax": 2399770.256061391,
  "ymax": 370046.39227896417,
  "spatialReference": {
   "wkid": 102724,
   "latestWkid": 2267
  }
 },
 "fullExtent": {
  "xmin": 2205768.675561391,
  "ymin": 157432.6442789642,
  "xmax": 2399770.256061391,
  "ymax": 370046.39227896417,
  "spatialReference": {
   "wkid": 102724,
   "latestWkid": 2267
  }
 },
 "pixelSizeX": 0.9842500000000008,
 "pixelSizeY": 0.9842499999999998,
 "bandCount": 3,
 "pixelType": "U8",
 "minPixelSize": 0,
 "maxPixelSize": 0,
 "copyrightText": "",
 "serviceDataType": "esriImageServiceDataTypeRGB",
 "minValues": [
  0,
  0,
  0
 ],
 "maxValues": [
  187,
  190,
  173
 ],
 "meanValues": [
  91.350404312668,
  101.00038505968,
  64.100885637274
 ],
 "stdvValues": [
  30.383843542762,
  28.909196197812,
  20.86682904688
 ],
 "objectIdField": "",
 "fields": [],
 "capabilities": "Image,Metadata,Mensuration",
 "defaultMosaicMethod": "Center",
 "allowedMosaicMethods": "",
 "sortField": "",
 "sortValue": null,
 "sortAscending": true,
 "mosaicOperator": "First",
 "defaultCompressionQuality": 75,
 "defaultResamplingMethod": "Bilinear",
 "maxImageHeight": 4100,
 "maxImageWidth": 15000,
 "allowRasterFunction": true,
 "rasterFunctionInfos": [
  {
   "name": "None",
   "description": "",
   "help": ""
  }
 ],
 "rasterTypeInfos": [
  {
   "name": "Raster Dataset",
   "description": "Supports all ArcGIS Raster Datasets",
   "help": ""
  }
 ],
 "mensurationCapabilities": "Basic",
 "hasHistograms": true,
 "hasColormap": false,
 "hasRasterAttributeTable": false,
 "minScale": 0,
 "maxScale": 0,
 "exportTilesAllowed": false,
 "hasMultidimensions": false,
 "supportsStatistics": false,
 "supportsAdvancedQueries": false,
 "editFieldsInfo": null,
 "ownershipBasedAccessControlForRasters": null,
 "allowComputeTiePoints": false,
 "useStandardizedQueries": true,
 "advancedQueryCapabilities": {
  "useStandardizedQueries": true,
  "supportsStatistics": false,
  "supportsOrderBy": false,
  "supportsDistinct": false,
  "supportsPagination": false
 },
 "spatialReference": {
  "wkid": 102724,
  "latestWkid": 2267
 }
}
