View In:
ArcGIS JavaScript
ArcGIS Online Map Viewer
ArcGIS Earth
ArcMap
View Footprint In:
ArcGIS Online Map Viewer
Service Description: OK/Murray_Photography_2023
Name: OK/Murray_Photography_2023
Description:
Single Fused Map Cache: false
Extent:
XMin: 2154791.390901937
YMin: 355937.9226402957
XMax: 2327941.635151937
YMax: 497177.7976402957
Spatial Reference: 102725
(2268)
LatestVCSWkid(0)
Initial Extent:
XMin: 2154791.390901937
YMin: 355937.9226402957
XMax: 2327941.635151937
YMax: 497177.7976402957
Spatial Reference: 102725
(2268)
LatestVCSWkid(0)
Full Extent:
XMin: 2154791.390901937
YMin: 355937.9226402957
XMax: 2327941.635151937
YMax: 497177.7976402957
Spatial Reference: 102725
(2268)
LatestVCSWkid(0)
Pixel Size X: 0.98425
Pixel Size Y: 0.98425
Band Count: 3
Pixel Type: U8
RasterFunction Infos: {"rasterFunctionInfos": [{
"name": "None",
"description": "",
"help": ""
}]}
Mensuration Capabilities: Basic
Has Histograms: true
Has Colormap: false
Has Multi Dimensions : false
Rendering Rule:
Min Scale: 0
Max Scale: 0
Copyright Text:
Service Data Type: esriImageServiceDataTypeRGB
Min Values: 0, 0, 0
Max Values: 254, 254, 254
Mean Values: 75.258761873567, 87.500818866689, 61.119390763184
Standard Deviation Values: 51.228122452514, 56.046531040275, 40.234519606773
Object ID Field:
Fields:
None
Default Mosaic Method: Center
Allowed Mosaic Methods:
SortField:
SortValue: null
Mosaic Operator: First
Default Compression Quality: 75
Default Resampling Method: Bilinear
Max Record Count: null
Max Image Height: 4100
Max Image Width: 15000
Max Download Image Count: null
Max Mosaic Image Count: null
Allow Raster Function: true
Allow Copy: null
Allow Analysis: null
Allow Compute TiePoints: false
Supports Statistics: false
Supports Advanced Queries: false
Use StandardizedQueries: true
Raster Type Infos:
Name: Raster Dataset
Description: Supports all ArcGIS Raster Datasets
Help:
Has Raster Attribute Table: false
Edit Fields Info: null
Ownership Based AccessControl For Rasters: null
Child Resources:
Info
Histograms
Key Properties
Legend
Raster Function Infos
Supported Operations:
Export Image
Identify
Measure
Compute Histograms
Compute Statistics Histograms
Get Samples
Compute Class Statistics
Query Boundary
Compute Pixel Location
Compute Angles
Validate
Project