{
 "currentVersion": 10.91,
 "serviceDescription": "OK/Murray_Photography_2023",
 "name": "OK/Murray_Photography_2023",
 "description": "",
 "extent": {
  "xmin": 2154791.390901937,
  "ymin": 355937.9226402957,
  "xmax": 2327941.635151937,
  "ymax": 497177.7976402957,
  "spatialReference": {
   "wkid": 102725,
   "latestWkid": 2268
  }
 },
 "initialExtent": {
  "xmin": 2154791.390901937,
  "ymin": 355937.9226402957,
  "xmax": 2327941.635151937,
  "ymax": 497177.7976402957,
  "spatialReference": {
   "wkid": 102725,
   "latestWkid": 2268
  }
 },
 "fullExtent": {
  "xmin": 2154791.390901937,
  "ymin": 355937.9226402957,
  "xmax": 2327941.635151937,
  "ymax": 497177.7976402957,
  "spatialReference": {
   "wkid": 102725,
   "latestWkid": 2268
  }
 },
 "pixelSizeX": 0.98425,
 "pixelSizeY": 0.98425,
 "bandCount": 3,
 "pixelType": "U8",
 "minPixelSize": 0,
 "maxPixelSize": 0,
 "copyrightText": "",
 "serviceDataType": "esriImageServiceDataTypeRGB",
 "minValues": [
  0,
  0,
  0
 ],
 "maxValues": [
  254,
  254,
  254
 ],
 "meanValues": [
  75.258761873567,
  87.500818866689,
  61.119390763184
 ],
 "stdvValues": [
  51.228122452514,
  56.046531040275,
  40.234519606773
 ],
 "objectIdField": "",
 "fields": [],
 "capabilities": "Image,Metadata,Mensuration",
 "defaultMosaicMethod": "Center",
 "allowedMosaicMethods": "",
 "sortField": "",
 "sortValue": null,
 "sortAscending": true,
 "mosaicOperator": "First",
 "defaultCompressionQuality": 75,
 "defaultResamplingMethod": "Bilinear",
 "maxImageHeight": 4100,
 "maxImageWidth": 15000,
 "allowRasterFunction": true,
 "rasterFunctionInfos": [
  {
   "name": "None",
   "description": "",
   "help": ""
  }
 ],
 "rasterTypeInfos": [
  {
   "name": "Raster Dataset",
   "description": "Supports all ArcGIS Raster Datasets",
   "help": ""
  }
 ],
 "mensurationCapabilities": "Basic",
 "hasHistograms": true,
 "hasColormap": false,
 "hasRasterAttributeTable": false,
 "minScale": 0,
 "maxScale": 0,
 "exportTilesAllowed": false,
 "hasMultidimensions": false,
 "supportsStatistics": false,
 "supportsAdvancedQueries": false,
 "editFieldsInfo": null,
 "ownershipBasedAccessControlForRasters": null,
 "allowComputeTiePoints": false,
 "useStandardizedQueries": true,
 "advancedQueryCapabilities": {
  "useStandardizedQueries": true,
  "supportsStatistics": false,
  "supportsOrderBy": false,
  "supportsDistinct": false,
  "supportsPagination": false
 },
 "spatialReference": {
  "wkid": 102725,
  "latestWkid": 2268
 }
}
