{
 "currentVersion": 10.91,
 "serviceDescription": "OK/Pawnee_Photography_2023",
 "name": "OK/Pawnee_Photography_2023",
 "description": "",
 "extent": {
  "xmin": 2241191.0804469744,
  "ymin": 408371.49606298225,
  "xmax": 2505940.550946974,
  "ymax": 595857.3415629822,
  "spatialReference": {
   "wkid": 102724,
   "latestWkid": 2267
  }
 },
 "initialExtent": {
  "xmin": 2241191.0804469744,
  "ymin": 408371.49606298225,
  "xmax": 2505940.550946974,
  "ymax": 595857.3415629822,
  "spatialReference": {
   "wkid": 102724,
   "latestWkid": 2267
  }
 },
 "fullExtent": {
  "xmin": 2241191.0804469744,
  "ymin": 408371.49606298225,
  "xmax": 2505940.550946974,
  "ymax": 595857.3415629822,
  "spatialReference": {
   "wkid": 102724,
   "latestWkid": 2267
  }
 },
 "pixelSizeX": 0.9842499999999993,
 "pixelSizeY": 0.9842499999999996,
 "bandCount": 3,
 "pixelType": "U8",
 "minPixelSize": 0,
 "maxPixelSize": 0,
 "copyrightText": "",
 "serviceDataType": "esriImageServiceDataTypeRGB",
 "minValues": [
  0,
  0,
  0
 ],
 "maxValues": [
  188,
  180,
  150
 ],
 "meanValues": [
  51.352030947776,
  57.736621534494,
  41.690522243714
 ],
 "stdvValues": [
  50.061372978981,
  53.91379147865,
  39.097379217632
 ],
 "objectIdField": "",
 "fields": [],
 "capabilities": "Image,Metadata,Mensuration",
 "defaultMosaicMethod": "Center",
 "allowedMosaicMethods": "",
 "sortField": "",
 "sortValue": null,
 "sortAscending": true,
 "mosaicOperator": "First",
 "defaultCompressionQuality": 75,
 "defaultResamplingMethod": "Bilinear",
 "maxImageHeight": 4100,
 "maxImageWidth": 15000,
 "allowRasterFunction": true,
 "rasterFunctionInfos": [
  {
   "name": "None",
   "description": "",
   "help": ""
  }
 ],
 "rasterTypeInfos": [
  {
   "name": "Raster Dataset",
   "description": "Supports all ArcGIS Raster Datasets",
   "help": ""
  }
 ],
 "mensurationCapabilities": "Basic",
 "hasHistograms": true,
 "hasColormap": false,
 "hasRasterAttributeTable": false,
 "minScale": 0,
 "maxScale": 0,
 "exportTilesAllowed": false,
 "hasMultidimensions": false,
 "supportsStatistics": false,
 "supportsAdvancedQueries": false,
 "editFieldsInfo": null,
 "ownershipBasedAccessControlForRasters": null,
 "allowComputeTiePoints": false,
 "useStandardizedQueries": true,
 "advancedQueryCapabilities": {
  "useStandardizedQueries": true,
  "supportsStatistics": false,
  "supportsOrderBy": false,
  "supportsDistinct": false,
  "supportsPagination": false
 },
 "spatialReference": {
  "wkid": 102724,
  "latestWkid": 2267
 }
}
