{
 "currentVersion": 10.91,
 "serviceDescription": "Public/Callaway_Photography_2019",
 "name": "Public/Callaway_Photography_2019",
 "description": "",
 "extent": {
  "xmin": 1717700,
  "ymin": 990800,
  "xmax": 1887700,
  "ymax": 1178300,
  "spatialReference": {
   "wkt": "PROJCS[\"NAD_1983_2011_StatePlane_Missouri_Central_FIPS_2402_Feet\",GEOGCS[\"GCS_NAD_1983_2011\",DATUM[\"D_NAD_1983_2011\",SPHEROID[\"GRS_1980\",6378137.0,298.257222101]],PRIMEM[\"Greenwich\",0.0],UNIT[\"Degree\",0.0174532925199433]],PROJECTION[\"Transverse_Mercator\"],PARAMETER[\"false_easting\",1640416.666666667],PARAMETER[\"false_northing\",0.0],PARAMETER[\"central_meridian\",-92.5],PARAMETER[\"scale_factor\",0.9999333333333333],PARAMETER[\"latitude_of_origin\",35.83333333333334],UNIT[\"Foot_US\",0.3048006096012192]]"
  }
 },
 "initialExtent": {
  "xmin": 1717700,
  "ymin": 990800,
  "xmax": 1887700,
  "ymax": 1178300,
  "spatialReference": {
   "wkt": "PROJCS[\"NAD_1983_2011_StatePlane_Missouri_Central_FIPS_2402_Feet\",GEOGCS[\"GCS_NAD_1983_2011\",DATUM[\"D_NAD_1983_2011\",SPHEROID[\"GRS_1980\",6378137.0,298.257222101]],PRIMEM[\"Greenwich\",0.0],UNIT[\"Degree\",0.0174532925199433]],PROJECTION[\"Transverse_Mercator\"],PARAMETER[\"false_easting\",1640416.666666667],PARAMETER[\"false_northing\",0.0],PARAMETER[\"central_meridian\",-92.5],PARAMETER[\"scale_factor\",0.9999333333333333],PARAMETER[\"latitude_of_origin\",35.83333333333334],UNIT[\"Foot_US\",0.3048006096012192]]"
  }
 },
 "fullExtent": {
  "xmin": 1717700,
  "ymin": 990800,
  "xmax": 1887700,
  "ymax": 1178300,
  "spatialReference": {
   "wkt": "PROJCS[\"NAD_1983_2011_StatePlane_Missouri_Central_FIPS_2402_Feet\",GEOGCS[\"GCS_NAD_1983_2011\",DATUM[\"D_NAD_1983_2011\",SPHEROID[\"GRS_1980\",6378137.0,298.257222101]],PRIMEM[\"Greenwich\",0.0],UNIT[\"Degree\",0.0174532925199433]],PROJECTION[\"Transverse_Mercator\"],PARAMETER[\"false_easting\",1640416.666666667],PARAMETER[\"false_northing\",0.0],PARAMETER[\"central_meridian\",-92.5],PARAMETER[\"scale_factor\",0.9999333333333333],PARAMETER[\"latitude_of_origin\",35.83333333333334],UNIT[\"Foot_US\",0.3048006096012192]]"
  }
 },
 "hasMultidimensions": false,
 "pixelSizeX": 0.5,
 "pixelSizeY": 0.5,
 "datasetFormat": "MrSID",
 "uncompressedSize": 510000000000,
 "blockWidth": 1024,
 "blockHeight": 128,
 "compressionType": "Wavelet (MG4)",
 "bandNames": [
  "Band_1",
  "Band_2",
  "Band_3",
  "Band_4"
 ],
 "allowCopy": true,
 "allowAnalysis": true,
 "bandCount": 4,
 "pixelType": "U8",
 "minPixelSize": 0,
 "maxPixelSize": 0,
 "copyrightText": "",
 "serviceDataType": "esriImageServiceDataTypeGeneric",
 "serviceSourceType": "esriImageServiceSourceTypeDataset",
 "minValues": [
  44,
  37,
  20,
  0
 ],
 "maxValues": [
  255,
  255,
  255,
  255
 ],
 "meanValues": [
  145.4825310559,
  139.10908385093,
  126.18581780538,
  198.45949792961
 ],
 "stdvValues": [
  60.885471051025,
  64.005017112882,
  69.994606755441,
  105.03719475966
 ],
 "objectIdField": "",
 "fields": [],
 "capabilities": "Image,Metadata,Mensuration",
 "defaultMosaicMethod": "Center",
 "allowedMosaicMethods": "",
 "sortField": "",
 "sortValue": null,
 "sortAscending": true,
 "mosaicOperator": "First",
 "defaultCompressionQuality": 75,
 "defaultResamplingMethod": "Bilinear",
 "maxImageHeight": 4100,
 "maxImageWidth": 15000,
 "allowRasterFunction": true,
 "rasterFunctionInfos": [
  {
   "name": "None",
   "description": "",
   "help": ""
  }
 ],
 "rasterTypeInfos": [
  {
   "name": "Raster Dataset",
   "description": "Supports all ArcGIS Raster Datasets",
   "help": ""
  }
 ],
 "mensurationCapabilities": "Basic",
 "hasHistograms": true,
 "hasColormap": false,
 "hasRasterAttributeTable": false,
 "minScale": 0,
 "maxScale": 0,
 "exportTilesAllowed": false,
 "supportsStatistics": false,
 "supportsAdvancedQueries": false,
 "editFieldsInfo": null,
 "ownershipBasedAccessControlForRasters": null,
 "allowComputeTiePoints": false,
 "useStandardizedQueries": true,
 "advancedQueryCapabilities": {
  "useStandardizedQueries": true,
  "supportsStatistics": false,
  "supportsOrderBy": false,
  "supportsDistinct": false,
  "supportsPagination": false
 },
 "spatialReference": {
  "wkt": "PROJCS[\"NAD_1983_2011_StatePlane_Missouri_Central_FIPS_2402_Feet\",GEOGCS[\"GCS_NAD_1983_2011\",DATUM[\"D_NAD_1983_2011\",SPHEROID[\"GRS_1980\",6378137.0,298.257222101]],PRIMEM[\"Greenwich\",0.0],UNIT[\"Degree\",0.0174532925199433]],PROJECTION[\"Transverse_Mercator\"],PARAMETER[\"false_easting\",1640416.666666667],PARAMETER[\"false_northing\",0.0],PARAMETER[\"central_meridian\",-92.5],PARAMETER[\"scale_factor\",0.9999333333333333],PARAMETER[\"latitude_of_origin\",35.83333333333334],UNIT[\"Foot_US\",0.3048006096012192]]"
 }
}
