View In:
ArcGIS JavaScript
ArcGIS Online Map Viewer
ArcGIS Earth
ArcMap
View Footprint In:
ArcGIS Online Map Viewer
Service Description: Public/Callaway_Photography_2022
Name: Public/Callaway_Photography_2022
Description:
Single Fused Map Cache: false
Extent:
XMin: 1716528
YMin: 991320
XMax: 1888128
YMax: 1178760
Spatial Reference: 102697
(102697)
Initial Extent:
XMin: 1716528
YMin: 991320
XMax: 1888128
YMax: 1178760
Spatial Reference: 102697
(102697)
Full Extent:
XMin: 1716528
YMin: 991320
XMax: 1888128
YMax: 1178760
Spatial Reference: 102697
(102697)
Pixel Size X: 0.25
Pixel Size Y: 0.25
Band Count: 4
Pixel Type: U8
RasterFunction Infos: {"rasterFunctionInfos": [{
"name": "None",
"description": "",
"help": ""
}]}
Mensuration Capabilities: Basic
Has Histograms: true
Has Colormap: false
Has Multi Dimensions : false
Rendering Rule:
Min Scale: 0
Max Scale: 0
Copyright Text:
Service Data Type: esriImageServiceDataTypeGeneric
Min Values: 75, 68, 26, 0
Max Values: 255, 255, 255, 255
Mean Values: 175.12836438923, 158.93866459627, 135.31780538302, 194.0965320911
Standard Deviation Values: 47.62105184143, 55.428893007142, 67.519124916961, 107.73358030553
Object ID Field:
Fields:
None
Default Mosaic Method: Center
Allowed Mosaic Methods:
SortField:
SortValue: null
Mosaic Operator: First
Default Compression Quality: 75
Default Resampling Method: Bilinear
Max Record Count: null
Max Image Height: 4100
Max Image Width: 15000
Max Download Image Count: null
Max Mosaic Image Count: null
Allow Raster Function: true
Allow Copy: true
Allow Analysis: true
Allow Compute TiePoints: false
Supports Statistics: false
Supports Advanced Queries: false
Use StandardizedQueries: true
Raster Type Infos:
Name: Raster Dataset
Description: Supports all ArcGIS Raster Datasets
Help:
Has Raster Attribute Table: false
Edit Fields Info: null
Ownership Based AccessControl For Rasters: null
Child Resources:
Info
Histograms
Statistics
Key Properties
Legend
Raster Function Infos
Supported Operations:
Export Image
Identify
Measure
Compute Histograms
Compute Statistics Histograms
Get Samples
Compute Class Statistics
Query Boundary
Compute Pixel Location
Compute Angles
Validate
Project