{
 "currentVersion": 10.91,
 "serviceDescription": "Public/Cedar_Photography_2023",
 "name": "Public/Cedar_Photography_2023",
 "description": "",
 "extent": {
  "xmin": 2218655.9999999953,
  "ymin": 588192.164026675,
  "xmax": 2353295.836026125,
  "ymax": 720192.000000005,
  "spatialReference": {
   "wkt": "PROJCS[\"NAD_1983_Iowa_South\",GEOGCS[\"GCS_NAD83_1986\",DATUM[\"D_North_American_1983\",SPHEROID[\"GRS_1980\",6378137.0,298.257222101]],PRIMEM[\"Greenwich\",0.0],UNIT[\"Degree\",0.0174532925199433]],PROJECTION[\"Lambert_Conformal_Conic\"],PARAMETER[\"false_easting\",1640416.66666665],PARAMETER[\"false_northing\",0.0],PARAMETER[\"central_meridian\",-93.5],PARAMETER[\"standard_parallel_1\",40.616666666667],PARAMETER[\"standard_parallel_2\",41.783333333333],PARAMETER[\"latitude_of_origin\",40.0],UNIT[\"US Survey Foot\",0.3048006096012192]]"
  }
 },
 "initialExtent": {
  "xmin": 2218655.9999999953,
  "ymin": 588192.164026675,
  "xmax": 2353295.836026125,
  "ymax": 720192.000000005,
  "spatialReference": {
   "wkt": "PROJCS[\"NAD_1983_Iowa_South\",GEOGCS[\"GCS_NAD83_1986\",DATUM[\"D_North_American_1983\",SPHEROID[\"GRS_1980\",6378137.0,298.257222101]],PRIMEM[\"Greenwich\",0.0],UNIT[\"Degree\",0.0174532925199433]],PROJECTION[\"Lambert_Conformal_Conic\"],PARAMETER[\"false_easting\",1640416.66666665],PARAMETER[\"false_northing\",0.0],PARAMETER[\"central_meridian\",-93.5],PARAMETER[\"standard_parallel_1\",40.616666666667],PARAMETER[\"standard_parallel_2\",41.783333333333],PARAMETER[\"latitude_of_origin\",40.0],UNIT[\"US Survey Foot\",0.3048006096012192]]"
  }
 },
 "fullExtent": {
  "xmin": 2218655.9999999953,
  "ymin": 588192.164026675,
  "xmax": 2353295.836026125,
  "ymax": 720192.000000005,
  "spatialReference": {
   "wkt": "PROJCS[\"NAD_1983_Iowa_South\",GEOGCS[\"GCS_NAD83_1986\",DATUM[\"D_North_American_1983\",SPHEROID[\"GRS_1980\",6378137.0,298.257222101]],PRIMEM[\"Greenwich\",0.0],UNIT[\"Degree\",0.0174532925199433]],PROJECTION[\"Lambert_Conformal_Conic\"],PARAMETER[\"false_easting\",1640416.66666665],PARAMETER[\"false_northing\",0.0],PARAMETER[\"central_meridian\",-93.5],PARAMETER[\"standard_parallel_1\",40.616666666667],PARAMETER[\"standard_parallel_2\",41.783333333333],PARAMETER[\"latitude_of_origin\",40.0],UNIT[\"US Survey Foot\",0.3048006096012192]]"
  }
 },
 "hasMultidimensions": false,
 "pixelSizeX": 0.16666666999999974,
 "pixelSizeY": 0.16666666999999996,
 "datasetFormat": "MrSID",
 "uncompressedSize": 2559224321296,
 "blockWidth": 1024,
 "blockHeight": 128,
 "compressionType": "Wavelet (MG4)",
 "bandNames": [
  "Band_1",
  "Band_2",
  "Band_3",
  "Band_4"
 ],
 "allowCopy": true,
 "allowAnalysis": true,
 "bandCount": 4,
 "pixelType": "U8",
 "minPixelSize": 0,
 "maxPixelSize": 0,
 "copyrightText": "",
 "serviceDataType": "esriImageServiceDataTypeGeneric",
 "serviceSourceType": "esriImageServiceSourceTypeDataset",
 "minValues": [
  43,
  29,
  40,
  0
 ],
 "maxValues": [
  255,
  255,
  255,
  255
 ],
 "meanValues": [
  146.77798604603,
  122.20233260439,
  105.90138498386,
  242.28751431844
 ],
 "stdvValues": [
  29.603701079316,
  34.125485682488,
  35.707708799736,
  53.348495553445
 ],
 "objectIdField": "",
 "fields": [],
 "capabilities": "Image,Metadata,Mensuration",
 "defaultMosaicMethod": "Center",
 "allowedMosaicMethods": "",
 "sortField": "",
 "sortValue": null,
 "sortAscending": true,
 "mosaicOperator": "First",
 "defaultCompressionQuality": 75,
 "defaultResamplingMethod": "Bilinear",
 "maxImageHeight": 4100,
 "maxImageWidth": 15000,
 "allowRasterFunction": true,
 "rasterFunctionInfos": [
  {
   "name": "None",
   "description": "",
   "help": ""
  }
 ],
 "rasterTypeInfos": [
  {
   "name": "Raster Dataset",
   "description": "Supports all ArcGIS Raster Datasets",
   "help": ""
  }
 ],
 "mensurationCapabilities": "Basic",
 "hasHistograms": true,
 "hasColormap": false,
 "hasRasterAttributeTable": false,
 "minScale": 0,
 "maxScale": 0,
 "exportTilesAllowed": false,
 "supportsStatistics": false,
 "supportsAdvancedQueries": false,
 "editFieldsInfo": null,
 "ownershipBasedAccessControlForRasters": null,
 "allowComputeTiePoints": false,
 "useStandardizedQueries": true,
 "advancedQueryCapabilities": {
  "useStandardizedQueries": true,
  "supportsStatistics": false,
  "supportsOrderBy": false,
  "supportsDistinct": false,
  "supportsPagination": false
 },
 "spatialReference": {
  "wkt": "PROJCS[\"NAD_1983_Iowa_South\",GEOGCS[\"GCS_NAD83_1986\",DATUM[\"D_North_American_1983\",SPHEROID[\"GRS_1980\",6378137.0,298.257222101]],PRIMEM[\"Greenwich\",0.0],UNIT[\"Degree\",0.0174532925199433]],PROJECTION[\"Lambert_Conformal_Conic\"],PARAMETER[\"false_easting\",1640416.66666665],PARAMETER[\"false_northing\",0.0],PARAMETER[\"central_meridian\",-93.5],PARAMETER[\"standard_parallel_1\",40.616666666667],PARAMETER[\"standard_parallel_2\",41.783333333333],PARAMETER[\"latitude_of_origin\",40.0],UNIT[\"US Survey Foot\",0.3048006096012192]]"
 }
}
