View In:
ArcGIS JavaScript
ArcGIS Online Map Viewer
ArcGIS Earth
ArcMap
View Footprint In:
ArcGIS Online Map Viewer
Service Description: KS/Hamilton_Photography_2021_NAIP
Name: KS/Hamilton_Photography_2021_NAIP
Description:
Single Fused Map Cache: false
Extent:
XMin: 229518.6
YMin: 4173882.0
XMax: 281628.0
YMax: 4245313.2
Spatial Reference: 26914
(26914)
LatestVCSWkid(0)
Initial Extent:
XMin: 229518.6
YMin: 4173882.0
XMax: 281628.0
YMax: 4245313.2
Spatial Reference: 26914
(26914)
LatestVCSWkid(0)
Full Extent:
XMin: 229518.6
YMin: 4173882.0
XMax: 281628.0
YMax: 4245313.2
Spatial Reference: 26914
(26914)
LatestVCSWkid(0)
Pixel Size X: 0.6
Pixel Size Y: 0.6000000000000015
Band Count: 3
Pixel Type: U8
RasterFunction Infos: {"rasterFunctionInfos": [{
"name": "None",
"description": "",
"help": ""
}]}
Mensuration Capabilities: Basic
Has Histograms: true
Has Colormap: false
Has Multi Dimensions : false
Rendering Rule:
Min Scale: 0
Max Scale: 0
Copyright Text:
Service Data Type: esriImageServiceDataTypeRGB
Min Values: 0, 0, 0
Max Values: 236, 213, 187
Mean Values: 136.79661016949, 123.40993299172, 98.838785967678
Standard Deviation Values: 47.82937191554, 42.602671872148, 36.20049424779
Object ID Field:
Fields:
None
Default Mosaic Method: Center
Allowed Mosaic Methods:
SortField:
SortValue: null
Mosaic Operator: First
Default Compression Quality: 75
Default Resampling Method: Bilinear
Max Record Count: null
Max Image Height: 4100
Max Image Width: 15000
Max Download Image Count: null
Max Mosaic Image Count: null
Allow Raster Function: true
Allow Copy: true
Allow Analysis: true
Allow Compute TiePoints: false
Supports Statistics: false
Supports Advanced Queries: false
Use StandardizedQueries: true
Raster Type Infos:
Name: Raster Dataset
Description: Supports all ArcGIS Raster Datasets
Help:
Has Raster Attribute Table: false
Edit Fields Info: null
Ownership Based AccessControl For Rasters: null
Child Resources:
Info
Histograms
Statistics
Key Properties
Legend
Raster Function Infos
Supported Operations:
Export Image
Identify
Measure
Compute Histograms
Compute Statistics Histograms
Get Samples
Compute Class Statistics
Query Boundary
Compute Pixel Location
Compute Angles
Validate
Project