View In:
ArcGIS JavaScript
ArcGIS Online Map Viewer
ArcGIS Earth
ArcMap
View Footprint In:
ArcGIS Online Map Viewer
Service Description: KS/Harper_Photography_2021
Name: KS/Harper_Photography_2021
Description:
Single Fused Map Cache: false
Extent:
XMin: 1348596.0
YMin: 1388218.0
XMax: 1531735.0
YMax: 1616642.0
Spatial Reference: 102678
(3420)
LatestVCSWkid(0)
Initial Extent:
XMin: 1348596.0
YMin: 1388218.0
XMax: 1531735.0
YMax: 1616642.0
Spatial Reference: 102678
(3420)
LatestVCSWkid(0)
Full Extent:
XMin: 1348596.0
YMin: 1388218.0
XMax: 1531735.0
YMax: 1616642.0
Spatial Reference: 102678
(3420)
LatestVCSWkid(0)
Pixel Size X: 1.0
Pixel Size Y: 1.0
Band Count: 3
Pixel Type: U8
RasterFunction Infos: {"rasterFunctionInfos": [{
"name": "None",
"description": "",
"help": ""
}]}
Mensuration Capabilities: Basic
Has Histograms: true
Has Colormap: false
Has Multi Dimensions : false
Rendering Rule:
Min Scale: 0
Max Scale: 0
Copyright Text:
Service Data Type: esriImageServiceDataTypeRGB
Min Values: 0, 0, 0
Max Values: 189, 166, 144
Mean Values: 103.21587301587, 100.31111111111, 78.461111111111
Standard Deviation Values: 34.291193308539, 28.153618342045, 26.227955134007
Object ID Field:
Fields:
None
Default Mosaic Method: Center
Allowed Mosaic Methods:
SortField:
SortValue: null
Mosaic Operator: First
Default Compression Quality: 75
Default Resampling Method: Bilinear
Max Record Count: null
Max Image Height: 4100
Max Image Width: 15000
Max Download Image Count: null
Max Mosaic Image Count: null
Allow Raster Function: true
Allow Copy: true
Allow Analysis: true
Allow Compute TiePoints: false
Supports Statistics: false
Supports Advanced Queries: false
Use StandardizedQueries: true
Raster Type Infos:
Name: Raster Dataset
Description: Supports all ArcGIS Raster Datasets
Help:
Has Raster Attribute Table: false
Edit Fields Info: null
Ownership Based AccessControl For Rasters: null
Child Resources:
Info
Histograms
Statistics
Key Properties
Legend
Raster Function Infos
Supported Operations:
Export Image
Identify
Measure
Compute Histograms
Compute Statistics Histograms
Get Samples
Compute Class Statistics
Query Boundary
Compute Pixel Location
Compute Angles
Validate
Project