View In:
ArcGIS JavaScript
ArcGIS Online Map Viewer
ArcGIS Earth
ArcMap
View Footprint In:
ArcGIS Online Map Viewer
Service Description: KS/Jackson_Photography_2021
Name: KS/Jackson_Photography_2021
Description:
Single Fused Map Cache: false
Extent:
XMin: 1867272.0
YMin: 326304.5
XMax: 2004552.0
YMax: 489984.0
Spatial Reference: 102677
(3419)
LatestVCSWkid(0)
Initial Extent:
XMin: 1867272.0
YMin: 326304.5
XMax: 2004552.0
YMax: 489984.0
Spatial Reference: 102677
(3419)
LatestVCSWkid(0)
Full Extent:
XMin: 1867272.0
YMin: 326304.5
XMax: 2004552.0
YMax: 489984.0
Spatial Reference: 102677
(3419)
LatestVCSWkid(0)
Pixel Size X: 0.25
Pixel Size Y: 0.25
Band Count: 4
Pixel Type: U8
RasterFunction Infos: {"rasterFunctionInfos": [{
"name": "None",
"description": "",
"help": ""
}]}
Mensuration Capabilities: Basic
Has Histograms: true
Has Colormap: false
Has Multi Dimensions : false
Rendering Rule:
Min Scale: 0
Max Scale: 0
Copyright Text:
Service Data Type: esriImageServiceDataTypeGeneric
Min Values: 32, 35, 37, 0
Max Values: 255, 255, 255, 255
Mean Values: 172.78014705882, 154.06544117647, 128.95753676471, 212.71360294118
Standard Deviation Values: 42.856126989809, 48.370511463258, 57.48798338469, 93.622426723239
Object ID Field:
Fields:
None
Default Mosaic Method: Center
Allowed Mosaic Methods:
SortField:
SortValue: null
Mosaic Operator: First
Default Compression Quality: 75
Default Resampling Method: Bilinear
Max Record Count: null
Max Image Height: 4100
Max Image Width: 15000
Max Download Image Count: null
Max Mosaic Image Count: null
Allow Raster Function: true
Allow Copy: true
Allow Analysis: true
Allow Compute TiePoints: false
Supports Statistics: false
Supports Advanced Queries: false
Use StandardizedQueries: true
Raster Type Infos:
Name: Raster Dataset
Description: Supports all ArcGIS Raster Datasets
Help:
Has Raster Attribute Table: false
Edit Fields Info: null
Ownership Based AccessControl For Rasters: null
Child Resources:
Info
Histograms
Statistics
Key Properties
Legend
Raster Function Infos
Supported Operations:
Export Image
Identify
Measure
Compute Histograms
Compute Statistics Histograms
Get Samples
Compute Class Statistics
Query Boundary
Compute Pixel Location
Compute Angles
Validate
Project