View In:
ArcGIS JavaScript
ArcGIS Online Map Viewer
ArcGIS Earth
ArcMap
View Footprint In:
ArcGIS Online Map Viewer
Service Description: KS/Oberlin_2021_Photography
Name: KS/Oberlin_2021_Photography
Description:
Single Fused Map Cache: false
Extent:
XMin: 573018.0
YMin: 479221.0
XMax: 645800.0
YMax: 572194.0
Spatial Reference: 102677
(3419)
VCSWkid(105703)
LatestVCSWkid(6360)
Initial Extent:
XMin: 573018.0
YMin: 479221.0
XMax: 645800.0
YMax: 572194.0
Spatial Reference: 102677
(3419)
VCSWkid(105703)
LatestVCSWkid(6360)
Full Extent:
XMin: 573018.0
YMin: 479221.0
XMax: 645800.0
YMax: 572194.0
Spatial Reference: 102677
(3419)
VCSWkid(105703)
LatestVCSWkid(6360)
Pixel Size X: 1.0
Pixel Size Y: 1.0
Band Count: 5
Pixel Type: U8
RasterFunction Infos: {"rasterFunctionInfos": [{
"name": "None",
"description": "",
"help": ""
}]}
Mensuration Capabilities: Basic
Has Histograms: true
Has Colormap: false
Has Multi Dimensions : false
Rendering Rule:
Min Scale: 0
Max Scale: 0
Copyright Text:
Service Data Type: esriImageServiceDataTypeGeneric
Min Values: 0, 0, 0, 0, 0
Max Values: 218, 198, 164, 211, 255
Mean Values: 131.6336996337, 117.52594627595, 103.84493284493, 135.01663614164, 245.74114774115
Standard Deviation Values: 33.078741294507, 29.876259837576, 24.998829190443, 31.795187399951, 44.776883771589
Object ID Field:
Fields:
None
Default Mosaic Method: Center
Allowed Mosaic Methods:
SortField:
SortValue: null
Mosaic Operator: First
Default Compression Quality: 75
Default Resampling Method: Bilinear
Max Record Count: null
Max Image Height: 4100
Max Image Width: 15000
Max Download Image Count: null
Max Mosaic Image Count: null
Allow Raster Function: true
Allow Copy: true
Allow Analysis: true
Allow Compute TiePoints: false
Supports Statistics: false
Supports Advanced Queries: false
Use StandardizedQueries: true
Raster Type Infos:
Name: Raster Dataset
Description: Supports all ArcGIS Raster Datasets
Help:
Has Raster Attribute Table: false
Edit Fields Info: null
Ownership Based AccessControl For Rasters: null
Child Resources:
Info
Histograms
Statistics
Key Properties
Legend
Raster Function Infos
Supported Operations:
Export Image
Identify
Measure
Compute Histograms
Compute Statistics Histograms
Get Samples
Compute Class Statistics
Query Boundary
Compute Pixel Location
Compute Angles
Validate
Project