View In:
ArcGIS JavaScript
ArcGIS Online Map Viewer
ArcGIS Earth
ArcMap
View Footprint In:
ArcGIS Online Map Viewer
Service Description: MO/Adair_Photography_2023_MSDIS
Name: MO/Adair_Photography_2023_MSDIS
Description:
Single Fused Map Cache: false
Extent:
XMin: 1538160.75
YMin: 1529836.75
XMax: 1686508.25
YMax: 1648813.75
Spatial Reference: 102697
(102697)
LatestVCSWkid(0)
Initial Extent:
XMin: 1538160.75
YMin: 1529836.75
XMax: 1686508.25
YMax: 1648813.75
Spatial Reference: 102697
(102697)
LatestVCSWkid(0)
Full Extent:
XMin: 1538160.75
YMin: 1529836.75
XMax: 1686508.25
YMax: 1648813.75
Spatial Reference: 102697
(102697)
LatestVCSWkid(0)
Pixel Size X: 0.5
Pixel Size Y: 0.5
Band Count: 5
Pixel Type: U8
RasterFunction Infos: {"rasterFunctionInfos": [{
"name": "None",
"description": "",
"help": ""
}]}
Mensuration Capabilities: Basic
Has Histograms: true
Has Colormap: false
Has Multi Dimensions : false
Rendering Rule:
Min Scale: 0
Max Scale: 0
Copyright Text:
Service Data Type: esriImageServiceDataTypeGeneric
Min Values: 0, 0, 0, 0, 0
Max Values: 209, 194, 184, 205, 255
Mean Values: 107.74436963083, 106.812166241, 87.397028093801, 131.12050150917, 239.65010448108
Standard Deviation Values: 35.917286085404, 33.312477564401, 28.317641228165, 38.554507802721, 57.101508210793
Object ID Field:
Fields:
None
Default Mosaic Method: Center
Allowed Mosaic Methods:
SortField:
SortValue: null
Mosaic Operator: First
Default Compression Quality: 75
Default Resampling Method: Bilinear
Max Record Count: null
Max Image Height: 4100
Max Image Width: 15000
Max Download Image Count: null
Max Mosaic Image Count: null
Allow Raster Function: true
Allow Copy: null
Allow Analysis: null
Allow Compute TiePoints: false
Supports Statistics: false
Supports Advanced Queries: false
Use StandardizedQueries: true
Raster Type Infos:
Name: Raster Dataset
Description: Supports all ArcGIS Raster Datasets
Help:
Has Raster Attribute Table: false
Edit Fields Info: null
Ownership Based AccessControl For Rasters: null
Child Resources:
Info
Histograms
Key Properties
Legend
Raster Function Infos
Supported Operations:
Export Image
Identify
Measure
Compute Histograms
Compute Statistics Histograms
Get Samples
Compute Class Statistics
Query Boundary
Compute Pixel Location
Compute Angles
Validate
Project