View In:
ArcGIS JavaScript
ArcGIS Online Map Viewer
ArcGIS Earth
ArcMap
View Footprint In:
ArcGIS Online Map Viewer
Service Description: MO/Blue_Springs_2012_Photography
Name: MO/Blue_Springs_2012_Photography
Description:
Single Fused Map Cache: false
Extent:
XMin: 2829999.9999999977
YMin: 1010000.0
XMax: 2869999.9999999977
YMax: 1060000.0
Spatial Reference: 102698
(102698)
LatestVCSWkid(0)
Initial Extent:
XMin: 2829999.9999999977
YMin: 1010000.0
XMax: 2869999.9999999977
YMax: 1060000.0
Spatial Reference: 102698
(102698)
LatestVCSWkid(0)
Full Extent:
XMin: 2829999.9999999977
YMin: 1010000.0
XMax: 2869999.9999999977
YMax: 1060000.0
Spatial Reference: 102698
(102698)
LatestVCSWkid(0)
Pixel Size X: 0.5
Pixel Size Y: 0.5
Band Count: 4
Pixel Type: U8
RasterFunction Infos: {"rasterFunctionInfos": [{
"name": "None",
"description": "",
"help": ""
}]}
Mensuration Capabilities: Basic
Has Histograms: true
Has Colormap: false
Has Multi Dimensions : false
Rendering Rule:
Min Scale: 0
Max Scale: 0
Copyright Text:
Service Data Type: esriImageServiceDataTypeGeneric
Min Values: 19, 40, 42, 238
Max Values: 255, 255, 255, 255
Mean Values: 97.729010591578, 97.758589511754, 93.326143115474, 254.99082924309
Standard Deviation Values: 17.313241066476, 14.722630596865, 13.312139466405, 0.24437586934977
Object ID Field:
Fields:
None
Default Mosaic Method: Center
Allowed Mosaic Methods:
SortField:
SortValue: null
Mosaic Operator: First
Default Compression Quality: 75
Default Resampling Method: Bilinear
Max Record Count: null
Max Image Height: 4100
Max Image Width: 15000
Max Download Image Count: null
Max Mosaic Image Count: null
Allow Raster Function: true
Allow Copy: true
Allow Analysis: true
Allow Compute TiePoints: false
Supports Statistics: false
Supports Advanced Queries: false
Use StandardizedQueries: true
Raster Type Infos:
Name: Raster Dataset
Description: Supports all ArcGIS Raster Datasets
Help:
Has Raster Attribute Table: false
Edit Fields Info: null
Ownership Based AccessControl For Rasters: null
Child Resources:
Info
Histograms
Statistics
Key Properties
Legend
Raster Function Infos
Supported Operations:
Export Image
Identify
Measure
Compute Histograms
Compute Statistics Histograms
Get Samples
Compute Class Statistics
Query Boundary
Compute Pixel Location
Compute Angles
Validate
Project