View In:
ArcGIS JavaScript
ArcGIS Online Map Viewer
ArcGIS Earth
ArcMap
View Footprint In:
ArcGIS Online Map Viewer
Service Description: MO/Blue_Springs_2014_Photography
Name: MO/Blue_Springs_2014_Photography
Description:
Single Fused Map Cache: false
Extent:
XMin: 2830000.000016
YMin: 1009999.9998570001
XMax: 2870000.000016
YMax: 1059999.999857
Spatial Reference: 102698
(102698)
LatestVCSWkid(0)
Initial Extent:
XMin: 2830000.000016
YMin: 1009999.9998570001
XMax: 2870000.000016
YMax: 1059999.999857
Spatial Reference: 102698
(102698)
LatestVCSWkid(0)
Full Extent:
XMin: 2830000.000016
YMin: 1009999.9998570001
XMax: 2870000.000016
YMax: 1059999.999857
Spatial Reference: 102698
(102698)
LatestVCSWkid(0)
Pixel Size X: 0.5
Pixel Size Y: 0.5
Band Count: 4
Pixel Type: U8
RasterFunction Infos: {"rasterFunctionInfos": [{
"name": "None",
"description": "",
"help": ""
}]}
Mensuration Capabilities: Basic
Has Histograms: true
Has Colormap: false
Has Multi Dimensions : false
Rendering Rule:
Min Scale: 0
Max Scale: 0
Copyright Text:
Service Data Type: esriImageServiceDataTypeGeneric
Min Values: 3, 35, 41, 255
Max Values: 253, 255, 255, 255
Mean Values: 123.23895634203, 125.70937742185, 118.51317489021, 255
Standard Deviation Values: 28.190237263607, 24.338359329437, 21.488500154125, 0
Object ID Field:
Fields:
None
Default Mosaic Method: Center
Allowed Mosaic Methods:
SortField:
SortValue: null
Mosaic Operator: First
Default Compression Quality: 75
Default Resampling Method: Bilinear
Max Record Count: null
Max Image Height: 4100
Max Image Width: 15000
Max Download Image Count: null
Max Mosaic Image Count: null
Allow Raster Function: true
Allow Copy: true
Allow Analysis: true
Allow Compute TiePoints: false
Supports Statistics: false
Supports Advanced Queries: false
Use StandardizedQueries: true
Raster Type Infos:
Name: Raster Dataset
Description: Supports all ArcGIS Raster Datasets
Help:
Has Raster Attribute Table: false
Edit Fields Info: null
Ownership Based AccessControl For Rasters: null
Child Resources:
Info
Histograms
Statistics
Key Properties
Legend
Raster Function Infos
Supported Operations:
Export Image
Identify
Measure
Compute Histograms
Compute Statistics Histograms
Get Samples
Compute Class Statistics
Query Boundary
Compute Pixel Location
Compute Angles
Validate
Project