View In:
ArcGIS JavaScript
ArcGIS Online Map Viewer
ArcGIS Earth
ArcMap
View Footprint In:
ArcGIS Online Map Viewer
Service Description: MO/Blue_Springs_2020_Photography
Name: MO/Blue_Springs_2020_Photography
Description:
Single Fused Map Cache: false
Extent:
XMin: 2810000.0
YMin: 970000.0
XMax: 2890000.0
YMax: 1075000.0
Spatial Reference: 102698
(102698)
LatestVCSWkid(0)
Initial Extent:
XMin: 2810000.0
YMin: 970000.0
XMax: 2890000.0
YMax: 1075000.0
Spatial Reference: 102698
(102698)
LatestVCSWkid(0)
Full Extent:
XMin: 2810000.0
YMin: 970000.0
XMax: 2890000.0
YMax: 1075000.0
Spatial Reference: 102698
(102698)
LatestVCSWkid(0)
Pixel Size X: 0.5
Pixel Size Y: 0.5
Band Count: 4
Pixel Type: U8
RasterFunction Infos: {"rasterFunctionInfos": [{
"name": "None",
"description": "",
"help": ""
}]}
Mensuration Capabilities: Basic
Has Histograms: true
Has Colormap: false
Has Multi Dimensions : false
Rendering Rule:
Min Scale: 0
Max Scale: 0
Copyright Text:
Service Data Type: esriImageServiceDataTypeGeneric
Min Values: 12, 29, 24, 252
Max Values: 208, 206, 201, 255
Mean Values: 110.23288681332, 106.93916676908, 88.69423620499, 254.99791077793
Standard Deviation Values: 22.580876667851, 21.094247936341, 20.524327878465, 0.055389715211024
Object ID Field:
Fields:
None
Default Mosaic Method: Center
Allowed Mosaic Methods:
SortField:
SortValue: null
Mosaic Operator: First
Default Compression Quality: 75
Default Resampling Method: Bilinear
Max Record Count: null
Max Image Height: 4100
Max Image Width: 15000
Max Download Image Count: null
Max Mosaic Image Count: null
Allow Raster Function: true
Allow Copy: true
Allow Analysis: true
Allow Compute TiePoints: false
Supports Statistics: false
Supports Advanced Queries: false
Use StandardizedQueries: true
Raster Type Infos:
Name: Raster Dataset
Description: Supports all ArcGIS Raster Datasets
Help:
Has Raster Attribute Table: false
Edit Fields Info: null
Ownership Based AccessControl For Rasters: null
Child Resources:
Info
Histograms
Statistics
Key Properties
Legend
Raster Function Infos
Supported Operations:
Export Image
Identify
Measure
Compute Histograms
Compute Statistics Histograms
Get Samples
Compute Class Statistics
Query Boundary
Compute Pixel Location
Compute Angles
Validate
Project