View In:
ArcGIS JavaScript
ArcGIS Online Map Viewer
ArcGIS Earth
ArcMap
View Footprint In:
ArcGIS Online Map Viewer
Service Description: MO/Blue_Springs__2010_Photography
Name: MO/Blue_Springs__2010_Photography
Description:
Single Fused Map Cache: false
Extent:
XMin: 2830000.0
YMin: 1010000.0
XMax: 2870000.0
YMax: 1060000.0
Spatial Reference: 102698
(102698)
LatestVCSWkid(0)
Initial Extent:
XMin: 2830000.0
YMin: 1010000.0
XMax: 2870000.0
YMax: 1060000.0
Spatial Reference: 102698
(102698)
LatestVCSWkid(0)
Full Extent:
XMin: 2830000.0
YMin: 1010000.0
XMax: 2870000.0
YMax: 1060000.0
Spatial Reference: 102698
(102698)
LatestVCSWkid(0)
Pixel Size X: 0.5
Pixel Size Y: 0.5
Band Count: 4
Pixel Type: U8
RasterFunction Infos: {"rasterFunctionInfos": [{
"name": "None",
"description": "",
"help": ""
}]}
Mensuration Capabilities: Basic
Has Histograms: true
Has Colormap: false
Has Multi Dimensions : false
Rendering Rule:
Min Scale: 0
Max Scale: 0
Copyright Text:
Service Data Type: esriImageServiceDataTypeGeneric
Min Values: 19, 31, 27, 255
Max Values: 230, 232, 228, 255
Mean Values: 118.45117540687, 114.47326272281, 99.979721002325, 255
Standard Deviation Values: 23.024654729945, 20.740919353963, 18.066640240041, 0
Object ID Field:
Fields:
None
Default Mosaic Method: Center
Allowed Mosaic Methods:
SortField:
SortValue: null
Mosaic Operator: First
Default Compression Quality: 75
Default Resampling Method: Bilinear
Max Record Count: null
Max Image Height: 4100
Max Image Width: 15000
Max Download Image Count: null
Max Mosaic Image Count: null
Allow Raster Function: true
Allow Copy: true
Allow Analysis: true
Allow Compute TiePoints: false
Supports Statistics: false
Supports Advanced Queries: false
Use StandardizedQueries: true
Raster Type Infos:
Name: Raster Dataset
Description: Supports all ArcGIS Raster Datasets
Help:
Has Raster Attribute Table: false
Edit Fields Info: null
Ownership Based AccessControl For Rasters: null
Child Resources:
Info
Histograms
Statistics
Key Properties
Legend
Raster Function Infos
Supported Operations:
Export Image
Identify
Measure
Compute Histograms
Compute Statistics Histograms
Get Samples
Compute Class Statistics
Query Boundary
Compute Pixel Location
Compute Angles
Validate
Project