View In:
ArcGIS JavaScript
ArcGIS Online Map Viewer
ArcGIS Earth
ArcMap
View Footprint In:
ArcGIS Online Map Viewer
Service Description: MO/Daviess_NAIP_2022
Name: MO/Daviess_NAIP_2022
Description:
Single Fused Map Cache: false
Extent:
XMin: 392611.2
YMin: 4399979.399999999
XMax: 436455.60000000003
YMax: 4449672.6
Spatial Reference: 26915
(26915)
LatestVCSWkid(0)
Initial Extent:
XMin: 392611.2
YMin: 4399979.399999999
XMax: 436455.60000000003
YMax: 4449672.6
Spatial Reference: 26915
(26915)
LatestVCSWkid(0)
Full Extent:
XMin: 392611.2
YMin: 4399979.399999999
XMax: 436455.60000000003
YMax: 4449672.6
Spatial Reference: 26915
(26915)
LatestVCSWkid(0)
Pixel Size X: 0.6000000000000003
Pixel Size Y: 0.6000000000000022
Band Count: 3
Pixel Type: U8
RasterFunction Infos: {"rasterFunctionInfos": [{
"name": "None",
"description": "",
"help": ""
}]}
Mensuration Capabilities: Basic
Has Histograms: true
Has Colormap: false
Has Multi Dimensions : false
Rendering Rule:
Min Scale: 0
Max Scale: 0
Copyright Text:
Service Data Type: esriImageServiceDataTypeRGB
Min Values: 0, 0, 0
Max Values: 214, 191, 176
Mean Values: 93.529320987654, 104.64351851852, 79.172325102881
Standard Deviation Values: 26.061967761458, 23.138286325206, 19.630109241484
Object ID Field:
Fields:
None
Default Mosaic Method: Center
Allowed Mosaic Methods:
SortField:
SortValue: null
Mosaic Operator: First
Default Compression Quality: 75
Default Resampling Method: Bilinear
Max Record Count: null
Max Image Height: 4100
Max Image Width: 15000
Max Download Image Count: null
Max Mosaic Image Count: null
Allow Raster Function: true
Allow Copy: null
Allow Analysis: null
Allow Compute TiePoints: false
Supports Statistics: false
Supports Advanced Queries: false
Use StandardizedQueries: true
Raster Type Infos:
Name: Raster Dataset
Description: Supports all ArcGIS Raster Datasets
Help:
Has Raster Attribute Table: false
Edit Fields Info: null
Ownership Based AccessControl For Rasters: null
Child Resources:
Info
Histograms
Key Properties
Legend
Raster Function Infos
Supported Operations:
Export Image
Identify
Measure
Compute Histograms
Compute Statistics Histograms
Get Samples
Compute Class Statistics
Query Boundary
Compute Pixel Location
Compute Angles
Validate
Project